BEGIN:VCALENDAR
VERSION:2.0
PRODID:-//Livery Climate Action Group - ECPv6.15.20//NONSGML v1.0//EN
CALSCALE:GREGORIAN
METHOD:PUBLISH
X-WR-CALNAME:Livery Climate Action Group
X-ORIGINAL-URL:https://liverycag.org.uk
X-WR-CALDESC:Events for Livery Climate Action Group
REFRESH-INTERVAL;VALUE=DURATION:PT1H
X-Robots-Tag:noindex
X-PUBLISHED-TTL:PT1H
BEGIN:VTIMEZONE
TZID:Europe/London
BEGIN:DAYLIGHT
TZOFFSETFROM:+0000
TZOFFSETTO:+0100
TZNAME:BST
DTSTART:20250330T010000
END:DAYLIGHT
BEGIN:STANDARD
TZOFFSETFROM:+0100
TZOFFSETTO:+0000
TZNAME:GMT
DTSTART:20251026T010000
END:STANDARD
BEGIN:DAYLIGHT
TZOFFSETFROM:+0000
TZOFFSETTO:+0100
TZNAME:BST
DTSTART:20260329T010000
END:DAYLIGHT
BEGIN:STANDARD
TZOFFSETFROM:+0100
TZOFFSETTO:+0000
TZNAME:GMT
DTSTART:20261025T010000
END:STANDARD
BEGIN:DAYLIGHT
TZOFFSETFROM:+0000
TZOFFSETTO:+0100
TZNAME:BST
DTSTART:20270328T010000
END:DAYLIGHT
BEGIN:STANDARD
TZOFFSETFROM:+0100
TZOFFSETTO:+0000
TZNAME:GMT
DTSTART:20271031T010000
END:STANDARD
END:VTIMEZONE
BEGIN:VEVENT
DTSTART;TZID=Europe/London:20260126T100000
DTEND;TZID=Europe/London:20260126T190000
DTSTAMP:20260421T061740
CREATED:20250915T092519Z
LAST-MODIFIED:20250927T121113Z
UID:6331-1769421600-1769454000@liverycag.org.uk
SUMMARY:Are We Prepared? - LCAG Conference 2026
DESCRIPTION:The Livery Climate Action Group Conference 2026 asks the question ‘Are we prepared?’ \nBook your tickets here: https://www.tickettailor.com/events/lcag/1850100/r/wb \n\nProgramme:  \n\nIs the City prepared for reporting and responding to the financial risks that will result from climate change?\nSpeakers to be confirmed\nKeynote speaker – Challenges for Climate Change Adaptation\nBaroness Brown of Cambridge (Professor Dame Julia King) DBE FREng FRS\nRisks to Life ?\nTim Munday\, MEng ACGI MCIWEM\, Chief Environmental Resilience Officer\, City of London Corporation\nDr Pierre Masselot\, Assistant Professor\, London School of Hygiene and Tropical Medicine\nAre our buildings prepared for climate change? \nPhilippa Simpson\, Director for Buildings and Renewal at the Barbican Centre\nHow fragile is our food supply chain?\nSpeakers to be confirmed\nClosing remarks\nSheriff-elect Keith Bottomley and Alderman Alison Gowman\, CBE\n\nSeveral schools will have their climate action display boards on show during the conferenceEnjoy coffee on arrival\, a light lunch at 12.00\, afternoon tea\, and champagne and canapes to conclude.Ticket price £95 (early bird price £80 available until 19th December 2025) \nComplete details of the conference programme will be published nearer the date.Supported by the City of London Corporation and The Worshipful Company of Merchant Taylors \n  \n \n  \nThank you for supporting our conference. We understand that plans can change\, and we aim to accommodate your needs as best as we can. Please review our refund policy below: \n\nRefund Requests: All refund requests must be submitted in writing to LCAGevents@gmail.com at least 10 days before the event date.\n\n\nFull Refunds: Full refunds will be issued for requests received 15 days or more before the event.\n\n\nPartial Refunds: Requests received between 5-14 days before the event will be eligible for a 50% refund.\n\n\nNo Refunds: Unfortunately\, we cannot offer refunds for requests made less than 5 days before the event.\n\n\nTransfer of Tickets: If you are unable to attend\, you may transfer your ticket to another person. Please notify us of the transfer at least 4 days before the event via LCAGevents@gmail.com\n\n\nEvent Cancellation: If the event is cancelled by the organisers\, a full refund will be issued to all ticket holders.\n\nWe appreciate your understanding and support. If you have any questions\, please contact us at LCAGevents@gmail.com \n\n\nLocation\nMerchant Taylors’ Hall\, EC2R 8JB \n\n 
URL:https://liverycag.org.uk/event/are-we-prepared-lcag-conference-2026/
LOCATION:Merchant Taylors’ Hall\, 30 Threadneedle Street\, London\, EC2R 8JB\, United Kingdom
ATTACH;FMTTYPE=image/png:https://liverycag.org.uk/wp-content/uploads/2025/09/tt-boxoffice-graphic-banner-169.png
ORGANIZER;CN="Livery Climate Action Group":MAILTO:info@liverycag.org.uk
END:VEVENT
END:VCALENDAR