BEGIN:VCALENDAR
VERSION:2.0
PRODID:-//Livery Climate Action Group - ECPv6.15.20//NONSGML v1.0//EN
CALSCALE:GREGORIAN
METHOD:PUBLISH
X-ORIGINAL-URL:https://liverycag.org.uk
X-WR-CALDESC:Events for Livery Climate Action Group
REFRESH-INTERVAL;VALUE=DURATION:PT1H
X-Robots-Tag:noindex
X-PUBLISHED-TTL:PT1H
BEGIN:VTIMEZONE
TZID:Europe/London
BEGIN:DAYLIGHT
TZOFFSETFROM:+0000
TZOFFSETTO:+0100
TZNAME:BST
DTSTART:20240331T010000
END:DAYLIGHT
BEGIN:STANDARD
TZOFFSETFROM:+0100
TZOFFSETTO:+0000
TZNAME:GMT
DTSTART:20241027T010000
END:STANDARD
BEGIN:DAYLIGHT
TZOFFSETFROM:+0000
TZOFFSETTO:+0100
TZNAME:BST
DTSTART:20250330T010000
END:DAYLIGHT
BEGIN:STANDARD
TZOFFSETFROM:+0100
TZOFFSETTO:+0000
TZNAME:GMT
DTSTART:20251026T010000
END:STANDARD
BEGIN:DAYLIGHT
TZOFFSETFROM:+0000
TZOFFSETTO:+0100
TZNAME:BST
DTSTART:20260329T010000
END:DAYLIGHT
BEGIN:STANDARD
TZOFFSETFROM:+0100
TZOFFSETTO:+0000
TZNAME:GMT
DTSTART:20261025T010000
END:STANDARD
END:VTIMEZONE
BEGIN:VEVENT
DTSTART;TZID=Europe/London:20250429T180000
DTEND;TZID=Europe/London:20250429T193000
DTSTAMP:20260421T180911
CREATED:20250318T162054Z
LAST-MODIFIED:20250318T162054Z
UID:5995-1745949600-1745955000@liverycag.org.uk
SUMMARY:Does Net Zero Mean the End of Livestock Agriculture?
DESCRIPTION:Diet and agriculture are borderline untouchable “third rail” issues in the climate debate. But with the global food system contributing up to an extra degree of warming by 2100\, they cannot be ignored. Sensible policies are hindered by carbon footprinting conventions that distort the impact of methane – in both directions. \nThis lecture explains how understanding methane’s true impact shows that a sustainable livestock industry could be compatible with a stable climate\, although it would still need radical change. \nSpeaker: \nProfessor Myles Allen took his first degree in Physics and Philosophy\, followed by a doctorate in Atmospheric\, Oceanic and Planetary Physics\, both at the University of Oxford. He has worked at Oxford for most of his career\, with early stints at MIT and the UN Environment Programme in Kenya\, and is currently Director of the Oxford Net Zero initiative. \nHe has contributed extensively to the Intergovernmental Panel on Climate Change (IPCC)\, including as Coordinating Lead Author for the 2018 IPCC Special Report on Global Warming of 1.5°C. He has published extensively on how human and natural influences on climate contribute to observed climate change and extreme weather risk\, and the implications for adaptation and mitigation policy. \nHe was awarded the Appleton Medal and Prize by the Institute of Physics in 2010\, and in 2022 a CBE for services to climate change attribution\, prediction and net zero. In 2023\, he was elected a Fellow of the Royal Society. \n  \nRegister here.
URL:https://liverycag.org.uk/event/does-net-zero-mean-the-end-of-livestock-agriculture/
LOCATION:Barnard’s Inn Hall\, United Kingdom
ATTACH;FMTTYPE=image/png:https://liverycag.org.uk/wp-content/uploads/2025/03/2025-04-29_Allen_800x560.png
END:VEVENT
END:VCALENDAR