BEGIN:VCALENDAR
VERSION:2.0
PRODID:-//Livery Climate Action Group - ECPv6.15.20//NONSGML v1.0//EN
CALSCALE:GREGORIAN
METHOD:PUBLISH
X-WR-CALNAME:Livery Climate Action Group
X-ORIGINAL-URL:https://liverycag.org.uk
X-WR-CALDESC:Events for Livery Climate Action Group
REFRESH-INTERVAL;VALUE=DURATION:PT1H
X-Robots-Tag:noindex
X-PUBLISHED-TTL:PT1H
BEGIN:VTIMEZONE
TZID:Europe/London
BEGIN:DAYLIGHT
TZOFFSETFROM:+0000
TZOFFSETTO:+0100
TZNAME:BST
DTSTART:20240331T010000
END:DAYLIGHT
BEGIN:STANDARD
TZOFFSETFROM:+0100
TZOFFSETTO:+0000
TZNAME:GMT
DTSTART:20241027T010000
END:STANDARD
BEGIN:DAYLIGHT
TZOFFSETFROM:+0000
TZOFFSETTO:+0100
TZNAME:BST
DTSTART:20250330T010000
END:DAYLIGHT
BEGIN:STANDARD
TZOFFSETFROM:+0100
TZOFFSETTO:+0000
TZNAME:GMT
DTSTART:20251026T010000
END:STANDARD
BEGIN:DAYLIGHT
TZOFFSETFROM:+0000
TZOFFSETTO:+0100
TZNAME:BST
DTSTART:20260329T010000
END:DAYLIGHT
BEGIN:STANDARD
TZOFFSETFROM:+0100
TZOFFSETTO:+0000
TZNAME:GMT
DTSTART:20261025T010000
END:STANDARD
END:VTIMEZONE
BEGIN:VEVENT
DTSTART;TZID=Europe/London:20250114T180000
DTEND;TZID=Europe/London:20250114T200000
DTSTAMP:20260421T223854
CREATED:20241210T213310Z
LAST-MODIFIED:20241210T213310Z
UID:5742-1736877600-1736884800@liverycag.org.uk
SUMMARY:Science-Based Targets\, Greenwashing and Brownscraping: Net Zero in the Private Sector
DESCRIPTION:Many companies are now required to have a “Science-based Target” for their emissions\, but how do we stop these from becoming greenwashing exercises or\, worse\, incentives for “brownscraping” – concentrating polluting assets to hide them from environmental scrutiny? Instead of decarbonising companies and their financial portfolios\, this lecture discusses the need to decarbonise products and services themselves. A company must be able to explain how they plan to stop what they sell from causing global warming – the rest is detail. \nSpeaker: Professor Myles Allen\, Gresham Frank Jackson Foundation Professor of the Environment (2022-) \nProfessor Myles Allen took his first degree in Physics and Philosophy\, followed by a doctorate in Atmospheric\, Oceanic and Planetary Physics\, both at the University of Oxford. He has worked at Oxford for most of his career\, with early stints at MIT and the UN Environment Programme in Kenya\, and is currently Director of the Oxford Net Zero initiative. \nHe has contributed extensively to the Intergovernmental Panel on Climate Change (IPCC)\, including as Coordinating Lead Author for the 2018 IPCC Special Report on Global Warming of 1.5°C. He has published extensively on how human and natural influences on climate contribute to observed climate change and extreme weather risk\, and the implications for adaptation and mitigation policy. \nHe was awarded the Appleton Medal and Prize by the Institute of Physics in 2010\, and in 2022 a CBE for services to climate change attribution\, prediction and net zero. In 2023\, he was elected a Fellow of the Royal Society. \nRegister for attending the venue or online here:
URL:https://liverycag.org.uk/event/science-based-targets-greenwashing-and-brownscraping-net-zero-in-the-private-sector/
LOCATION:Barnard’s Inn Hall\, United Kingdom
CATEGORIES:Climate Change
END:VEVENT
BEGIN:VEVENT
DTSTART;TZID=Europe/London:20250121T083000
DTEND;TZID=Europe/London:20250121T123000
DTSTAMP:20260421T223854
CREATED:20241205T133306Z
LAST-MODIFIED:20241205T133306Z
UID:5727-1737448200-1737462600@liverycag.org.uk
SUMMARY:11th LIVERY EDUCATION CONFERENCE FOR HEADTEACHERS
DESCRIPTION:The theme of the conference is “Helping young people enter the job market”. \n  \nOur speakers will include the Director of Education from the Careers and Enterprise Company on their current plans together with an employer who is working with them and a school representative discussing work experience. \n  \nWith space for 50 delegates from interested Livery Companies and 50 senior staff from secondary schools\, the aim is to follow the presentations with collaborative round table discussions\, developing and engendering possible collaboration and action points for the year ahead. Lively debate has informed the outcomes of the previous conferences and new school/Livery links have subsequently been fostered in a range of ways. \n  \nLivery Schools Link (LSL) has built up successful collaboration between Livery Companies and schools e.g. The continuing popularity and steady growth of our annual LSL Careers Showcase Event at Guildhall and the growing use of our HELP careers app. Please visit www.liveryschoolslink.org.uk for more information. \nMore information available here.
URL:https://liverycag.org.uk/event/11th-livery-education-conference-for-headteachers/
LOCATION:Merchant Taylors’ Hall\, 30 Threadneedle Street\, London\, EC2R 8JB\, United Kingdom
END:VEVENT
BEGIN:VEVENT
DTSTART;TZID=Europe/London:20250121T170000
DTEND;TZID=Europe/London:20250121T180000
DTSTAMP:20260421T223854
CREATED:20250112T215048Z
LAST-MODIFIED:20250112T215048Z
UID:5818-1737478800-1737482400@liverycag.org.uk
SUMMARY:SPOC Forum
DESCRIPTION:A discussion and feedback on the draft Guidance Note for SPOC Roles and Responsibilities
URL:https://liverycag.org.uk/event/spoc-forum/
LOCATION:Online event
ORGANIZER;CN="Livery Climate Action Group":MAILTO:info@liverycag.org.uk
END:VEVENT
END:VCALENDAR