BEGIN:VCALENDAR
VERSION:2.0
PRODID:-//Livery Climate Action Group - ECPv6.15.20//NONSGML v1.0//EN
CALSCALE:GREGORIAN
METHOD:PUBLISH
X-ORIGINAL-URL:https://liverycag.org.uk
X-WR-CALDESC:Events for Livery Climate Action Group
REFRESH-INTERVAL;VALUE=DURATION:PT1H
X-Robots-Tag:noindex
X-PUBLISHED-TTL:PT1H
BEGIN:VTIMEZONE
TZID:Europe/London
BEGIN:DAYLIGHT
TZOFFSETFROM:+0000
TZOFFSETTO:+0100
TZNAME:BST
DTSTART:20230326T010000
END:DAYLIGHT
BEGIN:STANDARD
TZOFFSETFROM:+0100
TZOFFSETTO:+0000
TZNAME:GMT
DTSTART:20231029T010000
END:STANDARD
BEGIN:DAYLIGHT
TZOFFSETFROM:+0000
TZOFFSETTO:+0100
TZNAME:BST
DTSTART:20240331T010000
END:DAYLIGHT
BEGIN:STANDARD
TZOFFSETFROM:+0100
TZOFFSETTO:+0000
TZNAME:GMT
DTSTART:20241027T010000
END:STANDARD
BEGIN:DAYLIGHT
TZOFFSETFROM:+0000
TZOFFSETTO:+0100
TZNAME:BST
DTSTART:20250330T010000
END:DAYLIGHT
BEGIN:STANDARD
TZOFFSETFROM:+0100
TZOFFSETTO:+0000
TZNAME:GMT
DTSTART:20251026T010000
END:STANDARD
END:VTIMEZONE
BEGIN:VEVENT
DTSTART;TZID=Europe/London:20241103T144500
DTEND;TZID=Europe/London:20241103T183000
DTSTAMP:20260422T014040
CREATED:20241026T210856Z
LAST-MODIFIED:20241026T210856Z
UID:5641-1730645100-1730658600@liverycag.org.uk
SUMMARY:Fuellers Sunday - 3 November 2024
DESCRIPTION:Fuellers Sunday\nSunday 3 November 2024\nThe Master[-elect]\, Elena Oderstone invites you to join her for Fuellers Sunday.\nThis will start with a Celebration Afternoon Tea near St Paul’s Cathedral before moving to St Andrew by the Wardrobe\, which is the first Grade I listed church in the whole of London to go fully carbon neutral following extensive renovations. \nDetails for the day can be found here and you are encouraged to book early.
URL:https://liverycag.org.uk/event/fuellers-sunday-3-november-2024/
LOCATION:Lost Property Hotel\, St Paul’s\, 3-5 Ludgate Hill\, London\, EC4M 7AA\, United Kingdom
ORGANIZER;CN="Worshipful Company of Fuellers":MAILTO:clerk@fuellers.co.uk
END:VEVENT
BEGIN:VEVENT
DTSTART;TZID=Europe/London:20241105T090000
DTEND;TZID=Europe/London:20241105T183000
DTSTAMP:20260422T014040
CREATED:20241017T214506Z
LAST-MODIFIED:20241017T214506Z
UID:5616-1730797200-1730831400@liverycag.org.uk
SUMMARY:Nature Finance UK Conference 2024
DESCRIPTION:The City of London Corporation has positioned London as a global centre for nature finance\, a topic that underpins action on climate. Members of the Livery Climate Action Group and their colleagues are invited to participate in the Nature Finance UK Conference on 5th November at a special discounted rate. Now in its seventh year\, this is an important forum for professionals involved in financial innovation for the stewardship of land\, water and nature: financial services providers\, asset owners\, investors\, corporates\, land managers and market enablers. \nTo receive a 20% discount on the event\, the coupon code LiveryClimateActionGroup can be used when booking at https://ecosystemsknowledge.net/event/nature-finance-uk-2024/
URL:https://liverycag.org.uk/event/nature-finance-uk-conference-2024/
LOCATION:IET\, Savoy Place\, London
END:VEVENT
BEGIN:VEVENT
DTSTART;TZID=Europe/London:20241105T091500
DTEND;TZID=Europe/London:20241105T111500
DTSTAMP:20260422T014040
CREATED:20241026T212930Z
LAST-MODIFIED:20241026T212930Z
UID:5647-1730798100-1730805300@liverycag.org.uk
SUMMARY:Lord Mayor's Coffee Colloquy: SDG12 Responsible Consumption and Production
DESCRIPTION:The 695th Lord Mayor of the City of London\, Alderman Professor Michael Mainelli 2023-24 Mayoral Theme “Connect to Prosper” celebrates our multiple knowledge miles\, showing that the UK is a place where problems come to be solved. The Coffee Colloquies will demonstrate this\, bringing together varied voices from in and around the city to talk about how their work supports the achievement of one of the UN Sustainable Development Goals. Through fast-paced transfer of knowledge\, and with a focus on connections and networking\, the Coffee Colloquies will invigorate our knowledge miles as the World’s Coffee House. \nUCL (University College London) are delighted to host this panel event on Sustainable Development Goal 12- ‘Responsible Consumption and Production’. The panel will be chaired by Professor Paola Lettieri (Pro-Provost\, UCL East); Paola will be joined by a range of UCL academics as well as colleagues from Newham Council and the Green Alliance who will be showcasing their research and how their work supports the SDG. Do join us for a coffee afterwards for an indepth discussion of the themes raised by the presenters. \nThe panel will be introduced by host Alderman Alison Gowman. \nBook on Eventbrite.
URL:https://liverycag.org.uk/event/lord-mayors-coffee-colloquy-sdg12-responsible-consumption-and-production/
LOCATION:Mansion House\, London\, London\, United Kingdom
END:VEVENT
BEGIN:VEVENT
DTSTART;TZID=Europe/London:20241112T083000
DTEND;TZID=Europe/London:20241112T220000
DTSTAMP:20260422T014040
CREATED:20241104T001006Z
LAST-MODIFIED:20241104T001346Z
UID:5680-1731400200-1731448800@liverycag.org.uk
SUMMARY:Biophilic Design Conference
DESCRIPTION:Never before has there been such an interest and urgent need to improve our physical and mental wellbeing\, productivity and creativity as well as to reach net zero and mitigate climate change to create sustainable businesses and cities.\n\nJoin us for the first ever Biophilic Design Conference run by the Journal of Biophilic Design at the Barbican London on 12th November 2024.\n\nBridging the gap between research and practice – Explore the positive impact of Biophilic Design on the mind\, body\, environment and economy.\n\nKeynote Speaker – TV presenter Oliver Heath\n “I’m delighted to be presenting the keynote speech at the Biophilic Design Conference\, particularly at time when the natural world that we are so reliant on is under such threat. With a growing awareness of the need for deeper nature connections across all aspects of our lives and building sectors\, there is so much to learn from our peers\, be that evidence\, practice\, case studies and approaches. Join us to engage\, contribute\, and learn.”\n\nMany other respected speakers in this field from NHS\, Dept of Education\, CEO of London Wildlife Trust\, Maggie’s Care Centres\, British Institute of Interior Design (BIID)\, Living Future Europe\, Stop Ecocide International\, Stride Treglown\, Buro Happold\, plus leading architects\, landscape architects and designers\, planners\, futurists\, city councils\, ecologists\, wellbeing experts and more.\n\nMathew Freeman\, President of BIID (British Institute of Interior Design) “The Biophilic Design conference is an educational opportunity for those at the fore\, to share new developments and inspire those who seek to utilise nature’s influence and prioritise health and wellbeing.”\n\nLearn how we can use Biophilic Design in city and town planning\, every workplace\, school\, hospital simply. How we retrofit Biophilic Design and aim to weave Biophilic Design into the very fabric of buildings and cities from the outset before ground is broken and cement mixed.\n\nPlus after the lights go down\, in the Barbican conservatory there will be the world Premiere of “The Green Book: The Biophilic Suite” composed and performed by acclaimed musician Javier Rodriguez\, commissioned by us and inspired by the Barbican.\n\n\nBooking link here: https://www.tickettailor.com/events/journalofbiophilicdesign/1205337 
URL:https://liverycag.org.uk/event/biophilic-design-conference/
LOCATION:The Barbican\, London\, The Barbican\, London\, EC2Y 8DS\, United Kingdom
END:VEVENT
BEGIN:VEVENT
DTSTART;TZID=Europe/London:20241112T123000
DTEND;TZID=Europe/London:20241112T210000
DTSTAMP:20260422T014040
CREATED:20241107T004053Z
LAST-MODIFIED:20241107T004053Z
UID:5688-1731414600-1731445200@liverycag.org.uk
SUMMARY:Electric Dreams 2024: celebrating women in energy
DESCRIPTION:Join us at the IET for an electrifying day of celebration dedicated to women in energy – past\, present and future – with an evening keynote by Professor Dame Julia King\, Baroness Brown of Cambridge\, chair of both the Climate Change Adaptation Committee and the Carbon Trust. Register here. \nAfternoon panel sessions\, with refreshments: 1pm – 5pm\nEvening keynote lecture\, drinks and networking: 6pm – 9pm\n(During the registration process\, please select to attend either the afternoon panel sessions (£15)\, the evening keynote lecture (sponsored)\, or both.) \nSpeakers at the afternoon panel sessions – all passionate advocates of diversity in engineering – include Anne Locker\, Sahar Danesh and Ann Oakley (session 1); and Lesley Rudd\, Yasmin Ali\, Kenneth Dunn and Titi Oliyide (session 2). The panels are chaired\, respectively\, by Henrietta Heald and Dawn Bonfield\, and each concludes with a Q&A. \nThe event marks the centenary of the founding on 12 November 1924 of the Electrical Association for Women (EAW)\, with Caroline Haslett at the helm. The EAW set out to educate all women in the new science of electricity\, to relieve them from domestic drudgery\, and to liberate them to pursue careers outside the home. \nBranches sprang up across the UK and elsewhere\, and the organisation – which helped to introduce labour-saving electrical items into millions of households – continued to thrive for 60 years\, becoming a powerful engine of 20th-century feminism. \nBuilding on the unique legacy of the EAW\, Electric Dreams 2024 is a nationwide festival that highlights the achievements of women working in the energy sector today and examines the nature of their increasingly important roles in the transition to Net Zero. \nPanel 1: What did the electricity pioneers of the past do for us?\nAnne Locker\, the Library and Archives Manager at the Institution of Engineering and Technology (IET)\, relates the history of the Electrical Association for Women (EAW) and how it transformed the national conversation around electricity in the home. \nSahar Danesh\, a chartered engineer and senior manager at the British Standards Institution (BSI) specialising in digital and emerging technologies\, explains the role women have played in shaping standards to ensure that everyday household items are safe to use. \nAnn Oakley\, professor of sociology and social policy at University College London (UCL)\, is the author of more than 40 books\, most recently The Science of Housework. She sets the achievements of the EAW in the context of the movement for science-based housework that swept Europe\, North America and other countries in the early 20th century. \nHenrietta Heald (chair) is the author of Magnificent Women and Their Revolutionary Machines\, a centenary history of the Women’s Engineering Society. \nPanel 2: Women and the energy transition\nYasmin Ali\, a chemical engineer who develops and manages renewable energy projects\, has delivered more than 100 talks about engineering and energy. She reveals the mission that inspired her first book\, Power Up\, which takes readers across the globe to reveal the bigger picture behind international energy systems. \nKenneth Dunn\, an educator and community development activist\, outlines how the introduction of a heat-retention cook bag – made by local women from local organic waste – has transformed the cooking process and energy use in rural areas of sub-Saharan Africa. \nTiti Oliydie\, a senior process safety engineer\, was named in 2023 the IET Young Woman Engineer of the Year. She demystifies the facts and fallacies about the green hydrogen industry\, where she is a safety and operations lead in innovative electrolyser technology. \nDawn Bonfield (chair) is professor of practice in engineering at King’s College London\, working with young engineers to address the UN Sustainable Development Goals. \nLesley Rudd\, the Chief Executive of Electrical Safety First\, has worked in the energy industry all of her career. Lesley explains in this presentation how ESF strives to achieve its mission of ensuring everyone in the UK can use electricity safely in their home and provides some insights into her own career and what influenced it. \nPublic lecture by Baroness Brown of Cambridge\nTogether in electric dreams: tackling climate change\n2023 was the hottest year on record – and 2024 is on track to beat it. We are seeing the global impacts of the changing climate. In 2022 we had 40oC temperatures in the UK\, in September 2023 we had record temperatures globally – 1.77o above pre-industrial levels\, and in April 2024 in India over 900 million people queued to vote in a 47oC heatwave made 45 times more likely by human-induced climate change. \nUrgent action is required if we are to have a chance of delivering the goals of the Paris Agreement.  Historically the UK has been a leader in climate action\, directed by the Climate Change Act 2008\, and the UK’s legislated 5 yearly Carbon Budgets. The 2020s were to be the decade of climate action with ambitious emissions reduction commitments set for 2030 in the UK’s Nationally Determined Contribution (NDC) submitted to COP 26 in Glasgow. We are almost halfway through the decade and we have some catching up to do. \nUnderpinning the decarbonisation of our economy is electrification – involving dramatic changes to our use of energy\, decarbonising the electricity system and doubling its current size in the next 25 years. \nThe lecture will look at the growing impacts of climate change\, underlining the need for urgent action. It will examine the implications of electrification for the UK’s path to Net Zero by 2050. Finally\, it will touch on the need for adaptation even if we achieve the global goal of the Paris Agreement.
URL:https://liverycag.org.uk/event/electric-dreams-2024-celebrating-women-in-energy/
LOCATION:IET\, Savoy Place\, London
END:VEVENT
BEGIN:VEVENT
DTSTART;TZID=Europe/London:20241113T180000
DTEND;TZID=Europe/London:20241113T191500
DTSTAMP:20260422T014040
CREATED:20241026T211918Z
LAST-MODIFIED:20241026T211918Z
UID:5645-1731520800-1731525300@liverycag.org.uk
SUMMARY:A Digital and Flourishing Built Environment
DESCRIPTION:Join us to hear from Professor Dave Philp and Neil Thompson who will talk us through the challenges and opportunities of a digital Built Environment\, including: \nWhat is the Built Environment? Why is it different to Construction? The role of Digital Twinning and the application of Data\, Technology and Change Management. Approaches to new build and existing estate. The challenges of Big Data. Social Value creation opportunities. Examples of developments. Current state of the UK market and Government Regulation. \n\n\n\n\nSpeakers: \nDavid Philp MSc BSc FCIOB FICE FRICS FCInstES FGBC. Chief Value Officer – Cohesive \nWith over 30 years in industry\, David is a Chartered Construction Manager by background. He has previously worked with Balfour Beatty\, Mace and AECOM. As CVO at Cohesive he is responsible for driving customer-centricity and creating sustainable value for clients across their asset lifecycle and portfolios. David has been involved in delivering innovative projects\, digital change strategies and digital asset management strategies across the globe in the UK\, Hong-Kong\, Singapore\, Australia and the Baltics. He was seconded to the UK Cabinet Office in 2011 as Head of BIM Implementation and has been a key contributor to the UK public sector BIM mandate (GCS 2011-2016) he was also Chair of the Scottish BIM Delivery Group through the Scottish Futures Trust delivering the BIM requirements of the Scottish Government. He is chair of the CIOB Innovation Panel and CIOB AI report. He is also an Honorary Professor at Heriot-Watt University\, Edinburgh. \nNeil Thompson FIET MCIOB MDAMA.Director\, Digital Integration & Delivery Infrastructure\, Asset Management atAtkinsRéalis. \nNeil is part of the leadership team responsible for a global transformation program which involves identifying and sharing digital innovation\, creating new business opportunities and service lines\, and encouraging cultural shift across an organization of over 55\,000 employees. Neil’s passion lies in determining how to improve the design\, build and operation of social & economic infrastructure\, through integrated technologies and services. Tackling the productivity problem using his background as a construction manager\, engineer and economist\, he is working to redefine business models\, harness robotics and apply digitally driven engineering. A chartered construction manager and engineer by background\, Neil’s professional experience spans personal entrepreneurship\, roles in global contractors and consultancies and work with SMEs. He has an MSc in Construction Economics and is an honorary associate professor at the Bartlett\, University College London. \n\nRegister with Eventbrite. 
URL:https://liverycag.org.uk/event/a-digital-and-flourishing-built-environment/
LOCATION:Online event
END:VEVENT
BEGIN:VEVENT
DTSTART;TZID=Europe/London:20241118T170000
DTEND;TZID=Europe/London:20241118T180000
DTSTAMP:20260422T014040
CREATED:20240714T174711Z
LAST-MODIFIED:20240714T174711Z
UID:5458-1731949200-1731952800@liverycag.org.uk
SUMMARY:LCAG All-SPOC Meeting
DESCRIPTION:Catch-up meeting for Livery Climate Action Group SIngle Points of Contact only
URL:https://liverycag.org.uk/event/lcag-all-spoc-meeting-4/
LOCATION:Online event
ORGANIZER;CN="Livery Climate Action Group":MAILTO:info@liverycag.org.uk
END:VEVENT
END:VCALENDAR