BEGIN:VCALENDAR
VERSION:2.0
PRODID:-//Livery Climate Action Group - ECPv6.15.20//NONSGML v1.0//EN
CALSCALE:GREGORIAN
METHOD:PUBLISH
X-ORIGINAL-URL:https://liverycag.org.uk
X-WR-CALDESC:Events for Livery Climate Action Group
REFRESH-INTERVAL;VALUE=DURATION:PT1H
X-Robots-Tag:noindex
X-PUBLISHED-TTL:PT1H
BEGIN:VTIMEZONE
TZID:Europe/London
BEGIN:DAYLIGHT
TZOFFSETFROM:+0000
TZOFFSETTO:+0100
TZNAME:BST
DTSTART:20230326T010000
END:DAYLIGHT
BEGIN:STANDARD
TZOFFSETFROM:+0100
TZOFFSETTO:+0000
TZNAME:GMT
DTSTART:20231029T010000
END:STANDARD
BEGIN:DAYLIGHT
TZOFFSETFROM:+0000
TZOFFSETTO:+0100
TZNAME:BST
DTSTART:20240331T010000
END:DAYLIGHT
BEGIN:STANDARD
TZOFFSETFROM:+0100
TZOFFSETTO:+0000
TZNAME:GMT
DTSTART:20241027T010000
END:STANDARD
BEGIN:DAYLIGHT
TZOFFSETFROM:+0000
TZOFFSETTO:+0100
TZNAME:BST
DTSTART:20250330T010000
END:DAYLIGHT
BEGIN:STANDARD
TZOFFSETFROM:+0100
TZOFFSETTO:+0000
TZNAME:GMT
DTSTART:20251026T010000
END:STANDARD
END:VTIMEZONE
BEGIN:VEVENT
DTSTART;TZID=Europe/London:20240902T110000
DTEND;TZID=Europe/London:20240902T114500
DTSTAMP:20260422T041425
CREATED:20240818T234512Z
LAST-MODIFIED:20240818T234602Z
UID:5497-1725274800-1725277500@liverycag.org.uk
SUMMARY:Building Urban Resilience
DESCRIPTION:One of the Lord Mayor’s Lectures in the Knowledge Miles series \nBackground: Building urban resilience in the face of environmental\, socioeconomic\, and political uncertainty and risk has captured the attention of politicians and practitioners across disciplines and scales. Resilience is both a goal to aspire to and a state of mind. Resilience to climate change has come to mean resilience to extreme heat on one side and flash flooding on the other. In this talk\, Samer proposes to unpack the meaning of resilience\, how it is defined\, and how the resilience capacity building agenda relates to that of sustainable development. \nSpeaker: \nProfessor Samer Bagaeen is the LCAG Single Point of Contact for the Chartered Surveyors. He is a Technical Director in Town Planning & Stakeholder Capability at Arcadis and previously worked as an Associate Director with the Rockefeller Foundation resilient cities network supporting a number of cities on their resilience journey. He is Professor of Planning & Resilient Systems at the University of Kent and Visiting Professor in Urban Resilience at Imperial College London. He was invited into RICS Fellowship in 2012. He is a Trustee of the Royal Town Planning Institute and on his second term as a Design Council Expert\, supporting the Council’s Design for Planet Mission. Samer was elected to Brighton & Hove City Council in 2019 and re-elected in 2023. He presently sits as an Independent.
URL:https://liverycag.org.uk/event/building-urban-resilience/
LOCATION:Online event
END:VEVENT
END:VCALENDAR