BEGIN:VCALENDAR
VERSION:2.0
PRODID:-//Livery Climate Action Group - ECPv6.15.20//NONSGML v1.0//EN
CALSCALE:GREGORIAN
METHOD:PUBLISH
X-WR-CALNAME:Livery Climate Action Group
X-ORIGINAL-URL:https://liverycag.org.uk
X-WR-CALDESC:Events for Livery Climate Action Group
REFRESH-INTERVAL;VALUE=DURATION:PT1H
X-Robots-Tag:noindex
X-PUBLISHED-TTL:PT1H
BEGIN:VTIMEZONE
TZID:Europe/London
BEGIN:DAYLIGHT
TZOFFSETFROM:+0000
TZOFFSETTO:+0100
TZNAME:BST
DTSTART:20230326T010000
END:DAYLIGHT
BEGIN:STANDARD
TZOFFSETFROM:+0100
TZOFFSETTO:+0000
TZNAME:GMT
DTSTART:20231029T010000
END:STANDARD
BEGIN:DAYLIGHT
TZOFFSETFROM:+0000
TZOFFSETTO:+0100
TZNAME:BST
DTSTART:20240331T010000
END:DAYLIGHT
BEGIN:STANDARD
TZOFFSETFROM:+0100
TZOFFSETTO:+0000
TZNAME:GMT
DTSTART:20241027T010000
END:STANDARD
BEGIN:DAYLIGHT
TZOFFSETFROM:+0000
TZOFFSETTO:+0100
TZNAME:BST
DTSTART:20250330T010000
END:DAYLIGHT
BEGIN:STANDARD
TZOFFSETFROM:+0100
TZOFFSETTO:+0000
TZNAME:GMT
DTSTART:20251026T010000
END:STANDARD
END:VTIMEZONE
BEGIN:VEVENT
DTSTART;TZID=Europe/London:20240604T090000
DTEND;TZID=Europe/London:20240604T180000
DTSTAMP:20260422T082616
CREATED:20240421T222837Z
LAST-MODIFIED:20240421T222837Z
UID:5285-1717491600-1717524000@liverycag.org.uk
SUMMARY:Net Zero Delivery Summit
DESCRIPTION:
URL:https://liverycag.org.uk/event/net-zero-delivery-summit/
LOCATION:Mansion House\, London\, London\, United Kingdom
END:VEVENT
BEGIN:VEVENT
DTSTART;TZID=Europe/London:20240610T170000
DTEND;TZID=Europe/London:20240610T180000
DTSTAMP:20260422T082616
CREATED:20240526T175200Z
LAST-MODIFIED:20240526T175502Z
UID:5365-1718038800-1718042400@liverycag.org.uk
SUMMARY:Modern Farming\, Food and Health
DESCRIPTION:Alongside efforts to reduce carbon emissions and the impact we humans have on our planet has come increased anxiety about food: how it is grown and distributed\, and its impact on health. \nWe will look at new farming methods and best practices in the food industry\, alongside our evolving understanding of food and the human microbiome. \nRegiter here for this free event: https://www.tickettailor.com/events/lcag/1239999 \nThe panel: \nPoul Hovesen is known in the UK farming industry for his innovative practices in managing a large mostly arable cropping Norfolk estate of 2\,000ha. He has received prestigious awards for improving yields whilst reducing environmental impact\, He has also been recognised for his work promoting the understanding of food\, farming and the countryside in Norfolk. Poul is currently Director of Farming at a different estate\, Holkham Estate\, and is Chairman of Catalyst Farming\, a data management company set up in 2019 to share knowledge across four progressive farming companies in Norfolk. He is an Honorary Fellow of the National Institute for Agricultural Botany\, a Liveryman of the Worshipful Company of Farmers\, and will be Vice President of the Royal Norfolk Show in 2024 and President in 2025. \nSarah Calcutt is CEO of City Harvest\, London’s leading food charity. Sarah is a 5th generation fruit farmer and has previously grown and marketed fruit. A Liveryman of the Worshipful Company of Fruiterers\, she is also a Non-Exec Director of The Covent Garden Market Authority\, a founding Non-Exec Director of Outfield Technologies and serves as a Commissioner on the new government Commission into the future of food banks. \nJane Anderson CBE is a consultant physician and researcher\, studied human nutrition\, gaining her PhD\, and qualifying as a dietician prior to retraining in medicine. During her year as Master of the Worshipful Society of Apothecaries she successfully introduced plant-led menus to Society functions. Jane is a Liveryman of the Worshipful Company of Gardeners and is an advocate for the “One Health” concept\, recognising the health of people\, animals and plants is inextricably connected to the health of our shared environment. Jane is Chair of the charity Paintings in Hospitals and of the National AIDS Trust.
URL:https://liverycag.org.uk/event/modern-farming-food-and-health/
LOCATION:Online event
ORGANIZER;CN="Livery Climate Action Group":MAILTO:info@liverycag.org.uk
END:VEVENT
BEGIN:VEVENT
DTSTART;TZID=Europe/London:20240612T170000
DTEND;TZID=Europe/London:20240612T180000
DTSTAMP:20260422T082616
CREATED:20240421T202724Z
LAST-MODIFIED:20240421T202724Z
UID:5276-1718211600-1718215200@liverycag.org.uk
SUMMARY:Building a Climate Action Plan
DESCRIPTION:By invitation to Livery Climate Action Group Single Points of Contact.
URL:https://liverycag.org.uk/event/building-a-climate-action-plan/
LOCATION:Online event
ORGANIZER;CN="Livery Climate Action Group":MAILTO:info@liverycag.org.uk
END:VEVENT
BEGIN:VEVENT
DTSTART;TZID=Europe/London:20240620T170000
DTEND;TZID=Europe/London:20240620T180000
DTSTAMP:20260422T082616
CREATED:20240512T234428Z
LAST-MODIFIED:20240512T234428Z
UID:5334-1718902800-1718906400@liverycag.org.uk
SUMMARY:LCAG All-SPOC Meeting
DESCRIPTION:By invitation to LCAG SPOCs only. Please register using Event website link below.
URL:https://liverycag.org.uk/event/lcag-all-spoc-meeting-2/
END:VEVENT
BEGIN:VEVENT
DTSTART;TZID=Europe/London:20240627T080000
DTEND;TZID=Europe/London:20240627T170000
DTSTAMP:20260422T082616
CREATED:20240421T223300Z
LAST-MODIFIED:20240421T223300Z
UID:5287-1719475200-1719507600@liverycag.org.uk
SUMMARY:Climate Innovation Forum 2024
DESCRIPTION:
URL:https://liverycag.org.uk/event/climate-innovation-forum-2024/
LOCATION:Guildhall 71 BAsinghall Street\, London EC2V 7HH\, 71 Basinghall Street\, EC2V 7HH
END:VEVENT
END:VCALENDAR