BEGIN:VCALENDAR
VERSION:2.0
PRODID:-//Livery Climate Action Group - ECPv6.15.20//NONSGML v1.0//EN
CALSCALE:GREGORIAN
METHOD:PUBLISH
X-WR-CALNAME:Livery Climate Action Group
X-ORIGINAL-URL:https://liverycag.org.uk
X-WR-CALDESC:Events for Livery Climate Action Group
REFRESH-INTERVAL;VALUE=DURATION:PT1H
X-Robots-Tag:noindex
X-PUBLISHED-TTL:PT1H
BEGIN:VTIMEZONE
TZID:Europe/London
BEGIN:DAYLIGHT
TZOFFSETFROM:+0000
TZOFFSETTO:+0100
TZNAME:BST
DTSTART:20230326T010000
END:DAYLIGHT
BEGIN:STANDARD
TZOFFSETFROM:+0100
TZOFFSETTO:+0000
TZNAME:GMT
DTSTART:20231029T010000
END:STANDARD
BEGIN:DAYLIGHT
TZOFFSETFROM:+0000
TZOFFSETTO:+0100
TZNAME:BST
DTSTART:20240331T010000
END:DAYLIGHT
BEGIN:STANDARD
TZOFFSETFROM:+0100
TZOFFSETTO:+0000
TZNAME:GMT
DTSTART:20241027T010000
END:STANDARD
BEGIN:DAYLIGHT
TZOFFSETFROM:+0000
TZOFFSETTO:+0100
TZNAME:BST
DTSTART:20250330T010000
END:DAYLIGHT
BEGIN:STANDARD
TZOFFSETFROM:+0100
TZOFFSETTO:+0000
TZNAME:GMT
DTSTART:20251026T010000
END:STANDARD
END:VTIMEZONE
BEGIN:VEVENT
DTSTART;TZID=Europe/London:20240205T173000
DTEND;TZID=Europe/London:20240205T193000
DTSTAMP:20260422T135343
CREATED:20240107T172400Z
LAST-MODIFIED:20240107T172400Z
UID:5067-1707154200-1707161400@liverycag.org.uk
SUMMARY:Cross-Livery event on NET-ZERO
DESCRIPTION:We need to decarbonise technologies and supply chains to deliver social value and move towards our net-zero commitment. The opportunity to reach net-zero by 2050 is here\, but that needs multi-sector collaboration and targeted solutions. This cross-livery event will bring Constructors and Information Technologists (IT) together to debate technological interdependencies between the sectors\, role of repair/refurbishments\, sustainable choices on materials and IT solutions. The keynotes will provide good account of the current industry practice and challenges faced in the supply chain. A debate/Q&A will allow attendees to raise questions to the experts and explore possible cross-sector solutions. \nKeynote Speakers\nTony Smith – Sika\nTony is the Head of Product Management for Concrete and Waterproofing\, which includes concrete admixtures\, fibres and waterproofing products such as membranes and coatings. He worked for a national aggregate and Readymix firm for 9 years in a variety of concrete technical and specification roles before joining Sika in 2015. He worked in Area Sales\, Specification and Business Development roles before joining the Product team. He is now responsible for the introduction of new products and technical / legal compliance of the product range. \nTony sits on the Cement Admixtures Association committee and various industry bodies such as the British Precast Concrete Federation. He is also a Certified Surveyor in Structural Waterproofing and has worked with design teams to create practical and effective waterproofing schemes. \nIsmail Hussein – Slabtec\nIsmail from Slabtec is a Civil/ Structural engineer who has held various Technical and Business Development roles within the refurbishment\, concrete repair\, structural strengthening\, waterproofing\, groundworks and temporary works industries. His role focuses on working with engineers\, contractors and clients to provide solutions for the refurbishment of existing structures. \nSlabtec is a refurbishment contractor specialising in concrete repair and the design + installation of innovative and optimised structural strengthening solutions. \nRussell Macdonald – Hewlett Packard Enterprise \nRussell Macdonald is Hewlett Packard Enterprise’s Chief Technologist for Hybrid Solutions; developing thought leadership and strategies for hybrid cloud\, data first modernisation and IT sustainability. Russell has a passion for sustainability and social value in and out of work: as a member of HPE’s ESG council\, a keynote speaker at the BCS Green IT Specialist Group\, a member of the Climate Change & IT Working Group and the Social Value Leadership Group of the Worshipful Company of Information Technologists (WCIT). \nHe is a Fellow of the Royal Society for Arts\, Manufactures and Commerce (RSA)\, and member of the Chartered Institute for IT (BCS) and the Institute for Corporate Responsibility and Sustainability (ICRS).
URL:https://liverycag.org.uk/event/cross-livery-event-on-net-zero/
LOCATION:WCIT Hall\, 39a Bartholomew Close\, London\, EC1A 7JN\, United Kingdom
END:VEVENT
BEGIN:VEVENT
DTSTART;TZID=Europe/London:20240207T180000
DTEND;TZID=Europe/London:20240207T210000
DTSTAMP:20260422T135343
CREATED:20240107T171051Z
LAST-MODIFIED:20240107T171051Z
UID:5060-1707328800-1707339600@liverycag.org.uk
SUMMARY:Closer and Closer to 2071
DESCRIPTION:It’s been 10 years since climate scientist Chris Rapley first performed his play 2071: The World We’ll Leave Our Grandchildren. In its five-star review\, The Guardian called it ‘better than good: it is necessary’. \nIn the past decade\, the world – and the Climate Crisis – have changed. Join us on 7th February as Chris reads excerpts from 2071 and reflects on its implications for our planet today. \nFollowing Chris’s remarks\, renowned environmentalist Jonathon Porritt will discuss our options for making a difference as individuals – and the particular power of charitable giving to climate organisations. \nHosted by the Global Returns Project: a UK registered charity making it easy for individuals and businesses to donate to best-in-class climate charities\, with no deductions. \n100% of every donation made when reserving free tickets for this event will be split equally between the six climate charities supported by the Global Returns Project: \n\nBlue Marine Foundation\nClientEarth\nGlobal Canopy\nRainforest Trust UK\nTrillion Trees\nWhale and Dolphin Conservation\n\nThis is a high capacity event\, so please do circulate the invitation to others who might enjoy\, and encourage them to register.
URL:https://liverycag.org.uk/event/closer-and-closer-to-2071/
LOCATION:Citypoint\, 1 Ropemaker Street London EC2Y 9AW\, Citypoint\, 1 Ropemaker Street\, London\, EC2Y 9AW\, United Kingdom
END:VEVENT
BEGIN:VEVENT
DTSTART;TZID=Europe/London:20240215T110000
DTEND;TZID=Europe/London:20240215T120000
DTSTAMP:20260422T135343
CREATED:20240205T233905Z
LAST-MODIFIED:20240205T233905Z
UID:5132-1707994800-1707998400@liverycag.org.uk
SUMMARY:How Pollinator-Friendly is the City of London?
DESCRIPTION:Background: \nPollinating London Together is a pan livery group founded by the Worshipful Company of Wax Chandlers and the Worshipful Company of Gardeners\, born out of a need to raise awareness of the importance of biodiversity and the decline in insect species\, specifically pollinators. Compared to other threatened species\, insects and pollinators are much less visible. The decline is largely due to habitat loss\, the overuse of chemicals\, and climate change. Not only will humans feel the loss of insects\, but so will birds and other animals in the food chain\, as they will not be able to feed on such insects or the fruit that they enable. \nTo address this decline\, PLT aims to help champion and create pollinator-friendly green spaces\, starting in the City of London\, allowing all pollinators\, including solitary bees\, bumblebees\, hoverflies\, butterflies\, moths and beetles\, to thrive and for workers and visitors of the City to benefit from the tranquillity of those green spaces. \nThis lecture will provide a summary of the findings from the pollinator and planting assessments in the City of London\, the development of pollinator-friendly planting and the identification of green corridors in the City. It will review the progress and future plans. \n\nSpeakers: \nDr Heather Barrett-Mold OBE is Vice Chair of the Pollinating London Together Charity\, a Past Master of the Gardeners Livery Company\, and founder member of the Livery Climate Action Group. \nHeather is a Chartered Scientist\, Chartered Horticulturist\, and Chartered Environmentalist. Currently a consultant. She was Principal/CEO of Pershore Group of Colleges\, and now Vice Chair of Governors at Capel Manor College. She was a member of the Government Advisory Panel on Sustainable Development Education for its lifetime of 5 years\, and then Advisor on the Secretary of State Sounding Board. Heather was an expert with the Commission for Sustainable London 2012\, and Secretary of State Board member for the Chilterns Area of Outstanding Natural Beauty. She is a Fellow of the Linnaean Society\, Vice President of the Institution of Environmental Science\, Past President of the Institute of Horticulture\, and previous Chair of the Science Council. \n\nDr Konstantinos Tsiolis is a pollinator ecologist. He has recently finished his PhD at the University of Reading\, which focused on understanding the nesting preferences of ground-nesting bees in commercial fruit orchards. Since the spring of 2022\, he has been working for Pollinating London Together\, assessing the pollinator and pollinator-friendly planting diversity of the City of London and adjacent areas. He has also been in close contact with the City of London Corporation\, schools and local wildlife groups\, spreading awareness of pollinator needs and diversity.
URL:https://liverycag.org.uk/event/how-pollinator-friendly-is-the-city-of-london/
ATTACH;FMTTYPE=image/png:https://liverycag.org.uk/wp-content/uploads/2024/02/PLT.png
END:VEVENT
END:VCALENDAR