BEGIN:VCALENDAR
VERSION:2.0
PRODID:-//Livery Climate Action Group - ECPv6.15.20//NONSGML v1.0//EN
CALSCALE:GREGORIAN
METHOD:PUBLISH
X-WR-CALNAME:Livery Climate Action Group
X-ORIGINAL-URL:https://liverycag.org.uk
X-WR-CALDESC:Events for Livery Climate Action Group
REFRESH-INTERVAL;VALUE=DURATION:PT1H
X-Robots-Tag:noindex
X-PUBLISHED-TTL:PT1H
BEGIN:VTIMEZONE
TZID:Europe/London
BEGIN:DAYLIGHT
TZOFFSETFROM:+0000
TZOFFSETTO:+0100
TZNAME:BST
DTSTART:20200329T010000
END:DAYLIGHT
BEGIN:STANDARD
TZOFFSETFROM:+0100
TZOFFSETTO:+0000
TZNAME:GMT
DTSTART:20201025T010000
END:STANDARD
BEGIN:DAYLIGHT
TZOFFSETFROM:+0000
TZOFFSETTO:+0100
TZNAME:BST
DTSTART:20210328T010000
END:DAYLIGHT
BEGIN:STANDARD
TZOFFSETFROM:+0100
TZOFFSETTO:+0000
TZNAME:GMT
DTSTART:20211031T010000
END:STANDARD
BEGIN:DAYLIGHT
TZOFFSETFROM:+0000
TZOFFSETTO:+0100
TZNAME:BST
DTSTART:20220327T010000
END:DAYLIGHT
BEGIN:STANDARD
TZOFFSETFROM:+0100
TZOFFSETTO:+0000
TZNAME:GMT
DTSTART:20221030T010000
END:STANDARD
END:VTIMEZONE
BEGIN:VEVENT
DTSTART;VALUE=DATE:20211115
DTEND;VALUE=DATE:20211116
DTSTAMP:20260422T232106
CREATED:20211129T073944Z
LAST-MODIFIED:20211129T073944Z
UID:3252-1636934400-1637020799@liverycag.org.uk
SUMMARY:Earl of Wessex Future Energy Conference 2021
DESCRIPTION:The Worshipful Company of Fuellers are very excited to announce the second Earl of Wessex Conference\, to be held on 15th November at the prestigious Royal College of Physicians\, Regent’s Park.
URL:https://liverycag.org.uk/event/earl-of-wessex-future-energy-conference-2021/
LOCATION:Royal College of Physicia\, 11 St Andrews Place Regent's Park\, London\, NW1 4LE\, United Kingdom
ORGANIZER;CN="Worshipful Company of Fuellers":MAILTO:clerk@fuellers.co.uk
END:VEVENT
BEGIN:VEVENT
DTSTART;TZID=Europe/London:20211111T180000
DTEND;TZID=Europe/London:20211111T203000
DTSTAMP:20260422T232106
CREATED:20211129T073342Z
LAST-MODIFIED:20211129T073342Z
UID:3248-1636653600-1636662600@liverycag.org.uk
SUMMARY:City Meat Lecture 2021 - The Rightful Place of Meat in the National Diet
DESCRIPTION:‘The Rightful Place of Meat in the National Diet’ is the subject for the WCB’s inaugural City Meat Lecture. It will take place on November 11\, at 6.00pm in the Butchers Hall. \nThe lecture will be followed by a question-and-answer period and discussion with selected panellists. The formal session will conclude at about 7.15pm and be followed by a high-class buffet supper\, with a fantastic opportunity to meet up and network with Liverymen and others involved in the meat industry. The proceedings will finish at around 8.30pm.
URL:https://liverycag.org.uk/event/city-meat-lecture-2021-the-rightful-place-of-meat-in-the-national-diet/
LOCATION:Butchers Hall\, 87 Bartholomew Close\, London\, EC1A 7EB\, United Kingdom
ORGANIZER;CN="Worshipful Company of Butchers":MAILTO:clerk@butchershall.com
END:VEVENT
BEGIN:VEVENT
DTSTART;TZID=Europe/London:20211018T170000
DTEND;TZID=Europe/London:20211018T183000
DTSTAMP:20260422T232106
CREATED:20211013T071250Z
LAST-MODIFIED:20211013T071250Z
UID:2842-1634576400-1634581800@liverycag.org.uk
SUMMARY:Livery Climate Action Group launch
DESCRIPTION:REGISTER HERE
URL:https://liverycag.org.uk/event/livery-climate-action-group-launch/
LOCATION:Online event
ATTACH;FMTTYPE=image/jpeg:https://liverycag.org.uk/wp-content/uploads/2021/10/LCAG-Event-Flyer_18.10.21lr5.jpg
ORGANIZER;CN="Livery Climate Action Group":MAILTO:info@liverycag.org.uk
END:VEVENT
END:VCALENDAR