BEGIN:VCALENDAR
VERSION:2.0
PRODID:-//Livery Climate Action Group - ECPv6.15.20//NONSGML v1.0//EN
CALSCALE:GREGORIAN
METHOD:PUBLISH
X-ORIGINAL-URL:https://liverycag.org.uk
X-WR-CALDESC:Events for Livery Climate Action Group
REFRESH-INTERVAL;VALUE=DURATION:PT1H
X-Robots-Tag:noindex
X-PUBLISHED-TTL:PT1H
BEGIN:VTIMEZONE
TZID:Europe/London
BEGIN:DAYLIGHT
TZOFFSETFROM:+0000
TZOFFSETTO:+0100
TZNAME:BST
DTSTART:20250330T010000
END:DAYLIGHT
BEGIN:STANDARD
TZOFFSETFROM:+0100
TZOFFSETTO:+0000
TZNAME:GMT
DTSTART:20251026T010000
END:STANDARD
BEGIN:DAYLIGHT
TZOFFSETFROM:+0000
TZOFFSETTO:+0100
TZNAME:BST
DTSTART:20260329T010000
END:DAYLIGHT
BEGIN:STANDARD
TZOFFSETFROM:+0100
TZOFFSETTO:+0000
TZNAME:GMT
DTSTART:20261025T010000
END:STANDARD
BEGIN:DAYLIGHT
TZOFFSETFROM:+0000
TZOFFSETTO:+0100
TZNAME:BST
DTSTART:20270328T010000
END:DAYLIGHT
BEGIN:STANDARD
TZOFFSETFROM:+0100
TZOFFSETTO:+0000
TZNAME:GMT
DTSTART:20271031T010000
END:STANDARD
END:VTIMEZONE
BEGIN:VEVENT
DTSTART;TZID=Europe/London:20260209T100000
DTEND;TZID=Europe/London:20260209T140000
DTSTAMP:20260421T062212
CREATED:20251221T112928Z
LAST-MODIFIED:20251221T112928Z
UID:6448-1770631200-1770645600@liverycag.org.uk
SUMMARY:Tackling Future Net Zero Challenges
DESCRIPTION:KING’S COLLEGE LONDON \nNET ZERO CENTRE \n‘Tackling Future Net Zero Challenges’ \nMonday 9 February 2026 \nBOOK NOW \n \nNET ZERO CENTRE \n‘Tackling Future Net Zero Challenges’ \nMonday 9 February 2026 \nBOOK NOW \n\nAll Fuellers are invited to attend King’s College London Net Zero Centre’s Annual Event at 0930 for 1000 on Monday 9 February.\nThis is being held in the Great Hall \nLaunched in April 2023\, the Net Zero Centre at King’s College London has made significant strides in advancing research and fostering collaborations around solutions to decarbonising society. \nThe Fuellers have seen the development of the Net Zero Centre and supported their events.  At this event we will hear from King’s researchers working on four key themes: \n\nMaterials for Net Zero\nSystems for Net Zero\nManufacturing for Net Zero\nCarbon Markets\n\nLunch will be provided and there will be plenty of opportunities to network. \nIf you would to attend then please register\, which you are encouraged to do early. \n  \nLOCATION\nKings College London\, Strand Campus\, Strand\, London\, WC2R 2LS\n[see map] \nABOUT THE NET ZERO CENTRE\nThe Net Zero Centre at King’s is dedicated to addressing the challenges of decarbonising our society and reducing the environmental impact of our manufacturing\, infrastructure\, and cities. It serves as hub for scientific\, technological and engineering research geared towards this challenge. \nBased in the Faculty of Natural\, Mathematical and Engineering Sciences (NMES)\, the Centre connects the departments of chemistry\, engineering\, informatics\, mathematics\, and physics. We catalyse links across King’s from geography and business to law\, social science\, and health to deliver innovative solutions for sustainable\, healthy development\, and environments.\nBOOK NOW \n\nFUTURE EVENTS\nDates of future Company and City events are available by clicking here and also on the Events Diary. \nThe following event are now available to book:\nLCAG Conference at Merchant Taylors’ Hall on Monday 26 January 2026   BOOK NOW\nAFSEA Air Energy Conference on Wednesday 28 & Thursday 29 January 2026  BOOK NOW \nAlex Maclean Bather\nClerk\nWorshipful Company of Fuellers \nM: 07521-992 653\nE: clerk@fuellers.co.uk\nhttps://www.fuellers.co.uk \nlinktr.ee/fuellerscompany
URL:https://liverycag.org.uk/event/tackling-future-net-zero-challenges/
LOCATION:King’s College Strand Campus\, Strand\, London\, WC2R 2LS\, United Kingdom
CATEGORIES:Climate Change
ORGANIZER;CN="Worshipful Company of Fuellers":MAILTO:clerk@fuellers.co.uk
END:VEVENT
BEGIN:VEVENT
DTSTART;TZID=Europe/London:20260218T180000
DTEND;TZID=Europe/London:20260218T190000
DTSTAMP:20260421T062212
CREATED:20260202T092510Z
LAST-MODIFIED:20260202T093113Z
UID:6569-1771437600-1771441200@liverycag.org.uk
SUMMARY:Climate Risk and Insurance
DESCRIPTION:Why did coastal homeowners lose insurance while UK energy bills spiked after Russia’s invasion? Because risks started moving together. In this lecture\, Professor Raghavendra Rau shows how climate extremes and geopolitics create synchronised shocks that overwhelm insurers and energy suppliers\, pushing up premiums and bills. He discusses the basics of risk pooling\, why it breaks under correlation\, and what realistic fixes look like—from parametric policies and better building standards to smarter hedging and targeted support. \n\n\n\n\n\n\n\n\n\n\n\n\n\n\nProfessor Raghavendra Rau\nGresham Mercers’ School Memorial Professor of Business\n  \nProfessor Rau was the Gresham College Mercers’ School Memorial Professor of Business. He is the Sir Evelyn de Rothschild Professor of Finance at Cambridge Judge Business… \n  \nFind out more
URL:https://liverycag.org.uk/event/climate-risk-and-insurance/
LOCATION:Barnard’s Inn Hall\, United Kingdom
ATTACH;FMTTYPE=image/jpeg:https://liverycag.org.uk/wp-content/uploads/2026/02/Rau_800x560.jpg
END:VEVENT
BEGIN:VEVENT
DTSTART;TZID=Europe/London:20260312T170000
DTEND;TZID=Europe/London:20260312T180000
DTSTAMP:20260421T062212
CREATED:20260202T091833Z
LAST-MODIFIED:20260202T091938Z
UID:6565-1773334800-1773338400@liverycag.org.uk
SUMMARY:SPOC Forum - Sustainable Public Lighting
DESCRIPTION:Is public lighting sustainable? Hear from Livery experts and the City Corporation \nThis SPOC event will be an overview by the Lightmongers Livery of the lighting industry’s contribution to local\, national and international sustainability and will explain how the City Corporation use lighting in the public realm. \n  \nBook your free ticket here: https://www.tickettailor.com/events/lcag/1853273 \nPresentations by: \nThe Master Lightmonger 2025-2026\, Graham Smith\, has agreed to speak about the Lightmongers’ sustainability policy and actions. \nLiveryman Perry Hazzell has agreed to give an overview of the lighting industry’s contribution to energy savings and improving the quality of life. \nIan Hughes\, City of London Corporation\, will explain the City’s policies and planning requirements as well as the lighting of the public realm for safety\, ambience and heritage enhancement. \n \n\nGraham Smith was born in Guisborough\, formerly the North Riding of Yorkshire and grew up in the North Yorkshire Moors National Park. \nHis first job was at Middlesbrough Borough Council and he then moved to Hertfordshire in 1994 and worked for David Webster Ltd in a number of roles. In 2004 he moved to Cartledge Ltd before joining the Highway Electrical Association as Chief Executive in November 2016. He worked tirelessly to raise the profile of the HEA and its \nmember organisations within the highway electrical industry moving it forward into the digital age\, and in turn raising the profile of the highway electrical industry itself – working with several related organisations such as Build                                                                            UK\, the Digital Policy Alliance and ADEPT providing industry best practice together with health and safety advice                                                                                thereby raising standards and awareness. \n \nPerry Hazell has worked in London within the lighting industry for over 18 years\, progressing from the tools through supervisory and contract management roles\, into operational and commercial leadership. His career has taken him from Principal Lighting Engineer to his current position as Business Manager at Southwark Council\, where he leads strategy and policy for lighting and EV infrastructure. He is currently the Immediate Past President of the Institution of Lighting Professionals and led the Institution in its centenary year. He Chairs the London EV Officers Group\, shaping policy and best practice across the sector.\n\n \nIan Hughes is the City of London Corporation’s City Operations Director (City Streets and Spaces) and leads on highways and is currently overseeing the project to relight the exterior of St Paul’s Cathedral.
URL:https://liverycag.org.uk/event/spoc-forum-sustainable-public-lighting/
LOCATION:Online event
ATTACH;FMTTYPE=image/png:https://liverycag.org.uk/wp-content/uploads/2026/02/lighting.png
ORGANIZER;CN="Livery Climate Action Group":MAILTO:info@liverycag.org.uk
END:VEVENT
BEGIN:VEVENT
DTSTART;TZID=Europe/London:20260505T170000
DTEND;TZID=Europe/London:20260505T180000
DTSTAMP:20260421T062212
CREATED:20260408T204256Z
LAST-MODIFIED:20260408T204256Z
UID:6688-1778000400-1778004000@liverycag.org.uk
SUMMARY:Beyond Solar\, Wind and Hydrogen
DESCRIPTION:This SPOC event will look at what’s beyond solar\, wind and hydrogen: when mitigation alone isn’t enough – where do we go from here? \nPresentation by Professor Averil MacDonald \nWe were promised that moving to green energy would get us to net zero and then everything will be fine\, but it turns out things are not quite so simple … We are already realising that wind and solar aren’t enough and energy saving can only go so far. Professor Averil Macdonald will look forward to the next 20 years and describe the new technologies that are coming down the road.\nBut\, despite all the new technology\, the modest-sounding 2°C average global temperature rise forecast will have serious consequences for the way we all live our lives day to day. We learnt at the recent LCAG Conference that we will need to adapt to the changing climate – everything from modifying our houses\, to transport\, to the urban environment and even food supply chains. This talk ends with a salutary reminder of what we will need to do to make life liveable at this latitude\, Join us on Zoom\, if only to find out why a clean bucket might be the most important thing to keep in your home. \nBook here: https://www.tickettailor.com/events/lcag/2125790 \nProfessor Averil Macdonald OBE DSc D.Univ HonFInstP FRSA \n  \n \nAveril Macdonald is Emeritus Professor at the University of Reading\, was formerly Professor of Inclusion and Equality at University of Birmingham and has now joined the £11M Cornerstone project at Southampton University as EDI Lead. \nAveril was awarded the international Bragg Medal and Prize (1999) by the Institute of Physics\, London\, the accolade of Woman of Outstanding Achievement in Science (2007) in recognition of her work in Science Communication\, the prestigious Plastics Industry Award for Personal Contribution to the Industry (2007)\, Honorary Doctorates by the University of York (2010) and Kingston University (2015) and an OBE in the Birthday Honours list 2015 for services to women in science. In 2025 she was elected Honorary Fellow of the Institute of Physics in recognition of lifetime achievement encouraging diversity in Physics. \nFrom 2019-2021 Averil was Master of the Worshipful Company of Fuellers in the City of London working alongside HRH Prince Edward the Earl of Wessex as Royal Master. Throughout her time as she championed future energy solutions to decarbonise the UK\, with a particular emphasis on using hydrogen. Averil was Chair of the Board of UKOOG\, the professional association for UK Onshore Oil and Gas industry\, advocating decarbonising natural gas to generate blue hydrogen. \nAveril’s other focus is supporting underrepresented groups in STEM careers. She was a member of the Women’s Business Council\, advising the UK Government\, sat on the board of Directors of WISE\, (the Campaign for Women in Science and Engineering)\, and has served as a Trustee of the Science Museum Group\, a Director of the Cheltenham Festivals and sat on the Court of Imperial College.
URL:https://liverycag.org.uk/event/beyond-solar-wind-and-hydrogen/
LOCATION:Online event
ATTACH;FMTTYPE=image/jpeg:https://liverycag.org.uk/wp-content/uploads/2026/04/Beyond-Solar.jpg
ORGANIZER;CN="Livery Climate Action Group":MAILTO:info@liverycag.org.uk
END:VEVENT
BEGIN:VEVENT
DTSTART;TZID=Europe/London:20260512T163000
DTEND;TZID=Europe/London:20260512T193000
DTSTAMP:20260421T062212
CREATED:20260204T093557Z
LAST-MODIFIED:20260204T094108Z
UID:6589-1778603400-1778614200@liverycag.org.uk
SUMMARY:A Conversation about Sustainability between Dame Polly Courtice and Peter Simpson
DESCRIPTION:This will be a free-flowing conversation between two exceptionally experienced people in the field of sustainability: the founder of the Cambridge Institute for Sustainability Leadership and a former Chief Executive of Anglian Water. They are both members of the Water Conservators.\nPolly and Peter have been working in this field for over thirty years and during that time have seen the dramatic evolution of the sustainability debate in terms of politics\, economics and corporate responses. Topics they will cover include:\n•\nThe evolution of the sustainability landscape – how politics\, policy\, and corporate attitudes have shifted over the last thirty years\n•\nTackling the competing demands of economic growth\, demographic shifts\, and climate and nature recovery\n•\nWhere is the water industry today and what barriers and opportunities lie ahead?\n•\nWhat defines “sustainability leadership” today – how attitudes have changed and what is required of today’s business leaders to drive genuine change and positive impact\nThis will be followed by an opportunity to network\, with drink refreshments provided.\nThe event is free and by invitation only. Places are limited and available on a first come first served basis. To reserve a place please register using this link \nEventbrite link https://www.eventbrite.co.uk/e/a-sustainability-conversation-with-dame-polly-courtice-and-peter-simpson-tickets-1980963805067?aff=oddtdtcreator \nIf you have any questions or would like to suggest someone else to be invited\, please contact Allan Barton at barton.allan@outlook.com \nWe are grateful to Arup for sponsoring this event
URL:https://liverycag.org.uk/event/a-conversation-about-sustainability-between-dame-polly-courtice-and-peter-simpson/
LOCATION:ARUP offices\, 8 Fitzroy Street\, 8 Fitzroy Street\, London\, W1T 4BJ\, United Kingdom
END:VEVENT
END:VCALENDAR