BEGIN:VCALENDAR
VERSION:2.0
PRODID:-//Livery Climate Action Group - ECPv6.15.20//NONSGML v1.0//EN
CALSCALE:GREGORIAN
METHOD:PUBLISH
X-WR-CALNAME:Livery Climate Action Group
X-ORIGINAL-URL:https://liverycag.org.uk
X-WR-CALDESC:Events for Livery Climate Action Group
REFRESH-INTERVAL;VALUE=DURATION:PT1H
X-Robots-Tag:noindex
X-PUBLISHED-TTL:PT1H
BEGIN:VTIMEZONE
TZID:Europe/London
BEGIN:DAYLIGHT
TZOFFSETFROM:+0000
TZOFFSETTO:+0100
TZNAME:BST
DTSTART:20240331T010000
END:DAYLIGHT
BEGIN:STANDARD
TZOFFSETFROM:+0100
TZOFFSETTO:+0000
TZNAME:GMT
DTSTART:20241027T010000
END:STANDARD
BEGIN:DAYLIGHT
TZOFFSETFROM:+0000
TZOFFSETTO:+0100
TZNAME:BST
DTSTART:20250330T010000
END:DAYLIGHT
BEGIN:STANDARD
TZOFFSETFROM:+0100
TZOFFSETTO:+0000
TZNAME:GMT
DTSTART:20251026T010000
END:STANDARD
BEGIN:DAYLIGHT
TZOFFSETFROM:+0000
TZOFFSETTO:+0100
TZNAME:BST
DTSTART:20260329T010000
END:DAYLIGHT
BEGIN:STANDARD
TZOFFSETFROM:+0100
TZOFFSETTO:+0000
TZNAME:GMT
DTSTART:20261025T010000
END:STANDARD
END:VTIMEZONE
BEGIN:VEVENT
DTSTART;TZID=Europe/London:20250327T120000
DTEND;TZID=Europe/London:20250327T133000
DTSTAMP:20260422T024520
CREATED:20250301T160443Z
LAST-MODIFIED:20250301T160443Z
UID:5966-1743076800-1743082200@liverycag.org.uk
SUMMARY:In-person Lunch and Learn: Navigating the Net Zero Journey for SMEs
DESCRIPTION:Heart of the City and Planet Mark In-person Lunch and Learn\nJoin Heart of the City and Planet Mark to kick-start your SME’s net zero journey with actionable insights and networking opportunities – complimented with a free lunch! \nThis special Lunch and Learn\, co-hosted by Heart of the City and Planet Mark\, is designed to help SMEs take meaningful and practical steps toward sustainability. Gain actionable insights into measuring and managing your carbon emissions and leave feeling confident and empowered to implement changes that benefit both your business and the planet. \n  \nRegister here.
URL:https://liverycag.org.uk/event/in-person-lunch-and-learn-navigating-the-net-zero-journey-for-smes/
LOCATION:Planet Mark Offices\, 39 Tabernacle Street\,\, London\, EC2A 4AA\, United Kingdom
CATEGORIES:Climate Change
END:VEVENT
END:VCALENDAR