BEGIN:VCALENDAR
VERSION:2.0
PRODID:-//Livery Climate Action Group - ECPv6.15.20//NONSGML v1.0//EN
CALSCALE:GREGORIAN
METHOD:PUBLISH
X-WR-CALNAME:Livery Climate Action Group
X-ORIGINAL-URL:https://liverycag.org.uk
X-WR-CALDESC:Events for Livery Climate Action Group
REFRESH-INTERVAL;VALUE=DURATION:PT1H
X-Robots-Tag:noindex
X-PUBLISHED-TTL:PT1H
BEGIN:VTIMEZONE
TZID:Europe/London
BEGIN:DAYLIGHT
TZOFFSETFROM:+0000
TZOFFSETTO:+0100
TZNAME:BST
DTSTART:20240331T010000
END:DAYLIGHT
BEGIN:STANDARD
TZOFFSETFROM:+0100
TZOFFSETTO:+0000
TZNAME:GMT
DTSTART:20241027T010000
END:STANDARD
BEGIN:DAYLIGHT
TZOFFSETFROM:+0000
TZOFFSETTO:+0100
TZNAME:BST
DTSTART:20250330T010000
END:DAYLIGHT
BEGIN:STANDARD
TZOFFSETFROM:+0100
TZOFFSETTO:+0000
TZNAME:GMT
DTSTART:20251026T010000
END:STANDARD
BEGIN:DAYLIGHT
TZOFFSETFROM:+0000
TZOFFSETTO:+0100
TZNAME:BST
DTSTART:20260329T010000
END:DAYLIGHT
BEGIN:STANDARD
TZOFFSETFROM:+0100
TZOFFSETTO:+0000
TZNAME:GMT
DTSTART:20261025T010000
END:STANDARD
END:VTIMEZONE
BEGIN:VEVENT
DTSTART;TZID=Europe/London:20250910T170000
DTEND;TZID=Europe/London:20250910T180000
DTSTAMP:20260421T120716
CREATED:20250628T213841Z
LAST-MODIFIED:20250712T001637Z
UID:6209-1757523600-1757527200@liverycag.org.uk
SUMMARY:SPOC Forum - Decarbonising the River Thames
DESCRIPTION:The River Thames is the heartbeat of London and many feel it is underused and a hidden resource. The Port of London Authority who are stewards of the River have committed to a Net Zero Plan and this is your chance to hear more and understand how we can all help.  From net zero shipping to innovation and clean up.  \nFor LCAG SPOCs only: Book tickets here. \nSpeaker: Grace Rawnsley. \n \nGrace joined the Port of London Authority (PLA) in 2023 as the Director of Sustainability and Net Zero Transition. Her responsibilities include the PLA’s sustainability work on net zero and climate adaptation as well as water quality\, air quality\, and biodiversity. She leads the organisation’s first externally focused net zero strategy aiming to decarbonise river-based activities on the Thames. She has also overseen the PLA’s first-of-its-kind approach to biodiversity net gain in the intertidal zone. As well as kick starting the PLA’s partnership work on sewage discharges with the water industry. \nPrior to joining the PLA\, Grace spent 13 years at the City of London Corporation in a variety of sustainability and transformation roles. She developed the City’s first Responsible Business Strategy and led the implementation of the City of London Corporation’s climate action work. Prior to the City of London Corporation\, Grace worked for a variety of well-known conservation charities including the Wildfowl and Wetlands Trust\, and trained as an Ecologist.
URL:https://liverycag.org.uk/event/spoc-forum-decarbonising-the-river-thames/
LOCATION:Online event
ATTACH;FMTTYPE=image/jpeg:https://liverycag.org.uk/wp-content/uploads/2025/06/utrtrsnjwqllsu5xlyjf.jpg
ORGANIZER;CN="Livery Climate Action Group":MAILTO:info@liverycag.org.uk
END:VEVENT
END:VCALENDAR