BEGIN:VCALENDAR
VERSION:2.0
PRODID:-//Livery Climate Action Group - ECPv6.15.20//NONSGML v1.0//EN
CALSCALE:GREGORIAN
METHOD:PUBLISH
X-ORIGINAL-URL:https://liverycag.org.uk
X-WR-CALDESC:Events for Livery Climate Action Group
REFRESH-INTERVAL;VALUE=DURATION:PT1H
X-Robots-Tag:noindex
X-PUBLISHED-TTL:PT1H
BEGIN:VTIMEZONE
TZID:Europe/London
BEGIN:DAYLIGHT
TZOFFSETFROM:+0000
TZOFFSETTO:+0100
TZNAME:BST
DTSTART:20240331T010000
END:DAYLIGHT
BEGIN:STANDARD
TZOFFSETFROM:+0100
TZOFFSETTO:+0000
TZNAME:GMT
DTSTART:20241027T010000
END:STANDARD
BEGIN:DAYLIGHT
TZOFFSETFROM:+0000
TZOFFSETTO:+0100
TZNAME:BST
DTSTART:20250330T010000
END:DAYLIGHT
BEGIN:STANDARD
TZOFFSETFROM:+0100
TZOFFSETTO:+0000
TZNAME:GMT
DTSTART:20251026T010000
END:STANDARD
BEGIN:DAYLIGHT
TZOFFSETFROM:+0000
TZOFFSETTO:+0100
TZNAME:BST
DTSTART:20260329T010000
END:DAYLIGHT
BEGIN:STANDARD
TZOFFSETFROM:+0100
TZOFFSETTO:+0000
TZNAME:GMT
DTSTART:20261025T010000
END:STANDARD
END:VTIMEZONE
BEGIN:VEVENT
DTSTART;TZID=Europe/London:20250717T170000
DTEND;TZID=Europe/London:20250717T190000
DTSTAMP:20260421T150659
CREATED:20250518T233652Z
LAST-MODIFIED:20250518T233652Z
UID:6145-1752771600-1752778800@liverycag.org.uk
SUMMARY:Taking Action for Pollinators in London
DESCRIPTION:Discover how to make our cities into havens for pollinators \nJoin the City of London Corporation and Pollinating London Together at the Tower of London for our second urban pollinator seminar: Taking Action for Pollinators in London. We will be joined by Prof. Katherine Baldock from the University of Northumbria\, who will provide an opening key notes speech on urban pollinators\, what they need and what we can do to help them. This will be followed by three inspiring case studies in which we will hear about the at scale efforts to restore populations of rare pollinators in East London; learn about how action plans have helped deliver strategic outcomes for pollinators in Lambeth; and understand how pollinators have been integrated into developments across London. This will be followed by a networking and drinks reception for all to share and pollinate new ideas! \nRegister here.
URL:https://liverycag.org.uk/event/taking-action-for-pollinators-in-london/
LOCATION:Tower of London\, London\, EC3N 4AB
END:VEVENT
END:VCALENDAR