BEGIN:VCALENDAR
VERSION:2.0
PRODID:-//Livery Climate Action Group - ECPv6.15.20//NONSGML v1.0//EN
CALSCALE:GREGORIAN
METHOD:PUBLISH
X-ORIGINAL-URL:https://liverycag.org.uk
X-WR-CALDESC:Events for Livery Climate Action Group
REFRESH-INTERVAL;VALUE=DURATION:PT1H
X-Robots-Tag:noindex
X-PUBLISHED-TTL:PT1H
BEGIN:VTIMEZONE
TZID:Europe/London
BEGIN:DAYLIGHT
TZOFFSETFROM:+0000
TZOFFSETTO:+0100
TZNAME:BST
DTSTART:20240331T010000
END:DAYLIGHT
BEGIN:STANDARD
TZOFFSETFROM:+0100
TZOFFSETTO:+0000
TZNAME:GMT
DTSTART:20241027T010000
END:STANDARD
BEGIN:DAYLIGHT
TZOFFSETFROM:+0000
TZOFFSETTO:+0100
TZNAME:BST
DTSTART:20250330T010000
END:DAYLIGHT
BEGIN:STANDARD
TZOFFSETFROM:+0100
TZOFFSETTO:+0000
TZNAME:GMT
DTSTART:20251026T010000
END:STANDARD
BEGIN:DAYLIGHT
TZOFFSETFROM:+0000
TZOFFSETTO:+0100
TZNAME:BST
DTSTART:20260329T010000
END:DAYLIGHT
BEGIN:STANDARD
TZOFFSETFROM:+0100
TZOFFSETTO:+0000
TZNAME:GMT
DTSTART:20261025T010000
END:STANDARD
END:VTIMEZONE
BEGIN:VEVENT
DTSTART;TZID=Europe/London:20250627T174500
DTEND;TZID=Europe/London:20250627T200000
DTSTAMP:20260421T163526
CREATED:20250617T105008Z
LAST-MODIFIED:20250617T105008Z
UID:6196-1751046300-1751054400@liverycag.org.uk
SUMMARY:The Environment and Human Rights
DESCRIPTION:Invitation to \n\nCity & Legal Lecture\n\nThe Environment & Human Rights\nInsights from the Aarhus Convention: A lecture by Professor Áine Ryall\, Chair of the UNECE Aarhus Convention Compliance Committee\, Geneva\n\nWith Keynote Speaker\n\nProfessor Áine Ryall\n  \non\n\nFriday 27th June 2025\n\n\nHosted by Alderman & Sheriff Gregory Jones KC\n\n\n\nJoin us at the Central Criminal Court\, where the panel will discuss the question The Environment & Human Rights\, Insights from the Aarhus Convention.\n\nPanellists include Professor Maria Lee\, Professor of Law at UCL and former director and co-director of the UCL Centre for Law and the Environment\, and Mark O’Brien O’Reilly\, top planning barrister.\n\nGuest arrival is from 17:45 at the Main Entrance of the Old Bailey for the talk beginning at 18:00 in the historic Court 1. The talk will end promptly at 19:00 and will be followed by a drinks reception until 20:00.\n\nDress code is business attire.\n\n\n\n\nShould you wish to attend\, tickets can be purchased for £25pp + fees via the Eventbrite link below  – \n\nhttps://www.eventbrite.com/e/1365902112989?aff=oddtdtcreator \n \n \n \n \nAll proceeds from this event will go towards the Sheriffs’ & Recorder’s Fund. \nFor more information about the fund\, please see the link below – \nThe Sheriffs’ & Recorder’s Fund – Supporting London’s prison leavers since 1808 \n \n\n\nPlease note that there are a limited number of tickets available for this event\, and only named ticketholders will be permitted entry.
URL:https://liverycag.org.uk/event/the-environment-and-human-rights/
LOCATION:Old Bailey\, Central Criminal Court Old Bailey\, London\, EC4M 7EH\, United Kingdom
ATTACH;FMTTYPE=image/jpeg:https://liverycag.org.uk/wp-content/uploads/2025/06/City-and-Legal-Lecture.jpg
END:VEVENT
END:VCALENDAR