BEGIN:VCALENDAR
VERSION:2.0
PRODID:-//Livery Climate Action Group - ECPv6.15.20//NONSGML v1.0//EN
CALSCALE:GREGORIAN
METHOD:PUBLISH
X-WR-CALNAME:Livery Climate Action Group
X-ORIGINAL-URL:https://liverycag.org.uk
X-WR-CALDESC:Events for Livery Climate Action Group
REFRESH-INTERVAL;VALUE=DURATION:PT1H
X-Robots-Tag:noindex
X-PUBLISHED-TTL:PT1H
BEGIN:VTIMEZONE
TZID:Europe/London
BEGIN:DAYLIGHT
TZOFFSETFROM:+0000
TZOFFSETTO:+0100
TZNAME:BST
DTSTART:20240331T010000
END:DAYLIGHT
BEGIN:STANDARD
TZOFFSETFROM:+0100
TZOFFSETTO:+0000
TZNAME:GMT
DTSTART:20241027T010000
END:STANDARD
BEGIN:DAYLIGHT
TZOFFSETFROM:+0000
TZOFFSETTO:+0100
TZNAME:BST
DTSTART:20250330T010000
END:DAYLIGHT
BEGIN:STANDARD
TZOFFSETFROM:+0100
TZOFFSETTO:+0000
TZNAME:GMT
DTSTART:20251026T010000
END:STANDARD
BEGIN:DAYLIGHT
TZOFFSETFROM:+0000
TZOFFSETTO:+0100
TZNAME:BST
DTSTART:20260329T010000
END:DAYLIGHT
BEGIN:STANDARD
TZOFFSETFROM:+0100
TZOFFSETTO:+0000
TZNAME:GMT
DTSTART:20261025T010000
END:STANDARD
END:VTIMEZONE
BEGIN:VEVENT
DTSTART;TZID=Europe/London:20250624T153000
DTEND;TZID=Europe/London:20250624T190000
DTSTAMP:20260421T163430
CREATED:20250511T232015Z
LAST-MODIFIED:20250511T232015Z
UID:6120-1750779000-1750791600@liverycag.org.uk
SUMMARY:Innovation for Resilience: Livery Company Collaboration
DESCRIPTION:SPOC conference 2025 \n15:30 – Arrive (tea and coffee available) \n16:00 – Event open and LCAG AGM\, including presentation of Mission statement and constitution \n16:15 – Stories of Livery climate innovations – presented by:\nAndrew Kennett CB CBE\, Clerk to the Skinners\nRob Casey\, Past Master Water Conservator\nJoanna Knight\, Court Assistant Furniture Makers \n17:00 – Presentation on food issues for Livery companies (one of the most requested topics from 2024 conference feedback) \n17:15 – Small group discussions about food issues \n18:00 – Concluding remarks followed by networking\, including drinks and canapes \n19:00 – Close \nPLEASE NOTE: Attendance to this event is limited to LCAG single points of contact (SPOCs) or LCAG executive team members. \nBuy tickets here.
URL:https://liverycag.org.uk/event/innovation-for-resilience-livery-company-collaboration/
LOCATION:Urban Farmer Project\, 18 Wine Office Ct\,\, London\, EC4A 3JR\, United Kingdom
ATTACH;FMTTYPE=image/jpeg:https://liverycag.org.uk/wp-content/uploads/2025/05/SPOC-Conference-25.jpg
ORGANIZER;CN="Livery Climate Action Group":MAILTO:info@liverycag.org.uk
END:VEVENT
END:VCALENDAR