BEGIN:VCALENDAR
VERSION:2.0
PRODID:-//Livery Climate Action Group - ECPv6.15.20//NONSGML v1.0//EN
CALSCALE:GREGORIAN
METHOD:PUBLISH
X-ORIGINAL-URL:https://liverycag.org.uk
X-WR-CALDESC:Events for Livery Climate Action Group
REFRESH-INTERVAL;VALUE=DURATION:PT1H
X-Robots-Tag:noindex
X-PUBLISHED-TTL:PT1H
BEGIN:VTIMEZONE
TZID:Europe/London
BEGIN:DAYLIGHT
TZOFFSETFROM:+0000
TZOFFSETTO:+0100
TZNAME:BST
DTSTART:20240331T010000
END:DAYLIGHT
BEGIN:STANDARD
TZOFFSETFROM:+0100
TZOFFSETTO:+0000
TZNAME:GMT
DTSTART:20241027T010000
END:STANDARD
BEGIN:DAYLIGHT
TZOFFSETFROM:+0000
TZOFFSETTO:+0100
TZNAME:BST
DTSTART:20250330T010000
END:DAYLIGHT
BEGIN:STANDARD
TZOFFSETFROM:+0100
TZOFFSETTO:+0000
TZNAME:GMT
DTSTART:20251026T010000
END:STANDARD
BEGIN:DAYLIGHT
TZOFFSETFROM:+0000
TZOFFSETTO:+0100
TZNAME:BST
DTSTART:20260329T010000
END:DAYLIGHT
BEGIN:STANDARD
TZOFFSETFROM:+0100
TZOFFSETTO:+0000
TZNAME:GMT
DTSTART:20261025T010000
END:STANDARD
END:VTIMEZONE
BEGIN:VEVENT
DTSTART;VALUE=DATE:20250524
DTEND;VALUE=DATE:20250526
DTSTAMP:20260421T180837
CREATED:20250518T232316Z
LAST-MODIFIED:20250518T232316Z
UID:6137-1748044800-1748217599@liverycag.org.uk
SUMMARY:London Cycling Festival
DESCRIPTION:Many events across London\, mainly over the weekend of 24-25 May 2025. \nIn the CIty of London\, Join us at Guildhall Yard on Sunday 25 May for inclusive\, all-ages and abilities cycling activities as part of London Cycling Festival. Enjoy family-friendly rides\, bike maintenance facilities\, information stalls\, and bicycle test rides. \nSee the London Cycling Festival website for full details. \nhttps://lcc.org.uk/events-calendar/ \n 
URL:https://liverycag.org.uk/event/london-cycling-festival/
LOCATION:Various\, London\, United Kingdom
END:VEVENT
END:VCALENDAR