BEGIN:VCALENDAR
VERSION:2.0
PRODID:-//Livery Climate Action Group - ECPv6.15.20//NONSGML v1.0//EN
CALSCALE:GREGORIAN
METHOD:PUBLISH
X-WR-CALNAME:Livery Climate Action Group
X-ORIGINAL-URL:https://liverycag.org.uk
X-WR-CALDESC:Events for Livery Climate Action Group
REFRESH-INTERVAL;VALUE=DURATION:PT1H
X-Robots-Tag:noindex
X-PUBLISHED-TTL:PT1H
BEGIN:VTIMEZONE
TZID:Europe/London
BEGIN:DAYLIGHT
TZOFFSETFROM:+0000
TZOFFSETTO:+0100
TZNAME:BST
DTSTART:20240331T010000
END:DAYLIGHT
BEGIN:STANDARD
TZOFFSETFROM:+0100
TZOFFSETTO:+0000
TZNAME:GMT
DTSTART:20241027T010000
END:STANDARD
BEGIN:DAYLIGHT
TZOFFSETFROM:+0000
TZOFFSETTO:+0100
TZNAME:BST
DTSTART:20250330T010000
END:DAYLIGHT
BEGIN:STANDARD
TZOFFSETFROM:+0100
TZOFFSETTO:+0000
TZNAME:GMT
DTSTART:20251026T010000
END:STANDARD
BEGIN:DAYLIGHT
TZOFFSETFROM:+0000
TZOFFSETTO:+0100
TZNAME:BST
DTSTART:20260329T010000
END:DAYLIGHT
BEGIN:STANDARD
TZOFFSETFROM:+0100
TZOFFSETTO:+0000
TZNAME:GMT
DTSTART:20261025T010000
END:STANDARD
END:VTIMEZONE
BEGIN:VEVENT
DTSTART;TZID=Europe/London:20250512T170000
DTEND;TZID=Europe/London:20250512T213000
DTSTAMP:20260421T180742
CREATED:20250502T071700Z
LAST-MODIFIED:20250502T071700Z
UID:6096-1747069200-1747085400@liverycag.org.uk
SUMMARY:TALES FROM THE RIVERBANK – IS THERE AN ENVIRONMENTAL CRISIS? WHO’S TO BLAME?
DESCRIPTION:With Dr Peter Matthews and Mark Lloyd \nThis year’s Plumbers’ Annual Lecture at Wax Chandlers Hall will explore the historical context of water management\, the stakeholders involved\, and the current crisis affecting our inland waters. \n\nThe press is full of the alarming state of the quality of our river waters and public trust in water companies is at an all-time low\, with many quick to blame water companies for turning our waterways into sewers. But are they the only ones responsible? \nIn response\, the Government has now launched an Independent Commission to assess the water sector and its regulation. \nIts goal is to ensure the UK has a sufficiently robust and stable regulatory framework to attract the investment needed to clean up our waterways\, speed up infrastructure delivery and restore public confidence in the sector. The Commission’s recommendations are due to be released in 2025. \nOur keynote speakers will explore the origins of how we manage inland waters\, the various parties involved\, the current state of our waterways and the pressing public concerns regarding water quality. A critical examination will be made of the extent of the crisis and the political drivers behind the ongoing challenges with water management. \nLooking ahead\, we will investigate potential solutions\, focusing on how to implement nature based solutions\, catchment wide approaches that deliver multiple benefits for best value. What role should the regulators and regulation have\, and how can we create a governance framework that fosters integrated\, collaborative delivery across the many stakeholders involved? \nFinally\, we will consider the expectations of the public — how can we meet their demands and align our efforts with their perceptions\, both now and in the future? \nThis Plumbers’ Annual Lecture is not to be missed and promises to be a fascinating evening! \nPlease note tickets are limited and will be allocated on a first come first served basis. \n  \nFurther details here on how to book \n  \nProgramme \nThe event will start at 5:15 pm followed by the lecture at 6:00 pm. This will be followed by the drinks reception at 7:15 pm and an excellent dinner at 8 pm at Brasserie Blanc. The evening will end at approximately 9:30 pm. \nWho should attend? \n\nLiverymen and guests\nCorporate Members and guests\nApprentices\, trainees and students (special concessions apply)\nAnyone interested in our rivers\n\nTickets \nLecture Only \n\n£25 Standard (per head)\n£15 Students and under 25 (per head)\n\nLecture and dinner at Brasserie Blanc \n\n£85 Standard (per head)\n£75 Students and under 25 (per head)\n\nHow to book \nMembers of the Plumbers’ Company \nPlease book through the members section of the website. \nNon-members \nPlease book through CIPHE by scanning or clicking the QR code: \nhttps://www.ciphe.org.uk/about/events-diary/wcop-annual-lecture-2025
URL:https://liverycag.org.uk/event/tales-from-the-riverbank-is-there-an-environmental-crisis-whos-to-blame/
LOCATION:Wax Chandlers’ Hall\, United Kingdom
END:VEVENT
END:VCALENDAR