BEGIN:VCALENDAR
VERSION:2.0
PRODID:-//Livery Climate Action Group - ECPv6.15.20//NONSGML v1.0//EN
CALSCALE:GREGORIAN
METHOD:PUBLISH
X-ORIGINAL-URL:https://liverycag.org.uk
X-WR-CALDESC:Events for Livery Climate Action Group
REFRESH-INTERVAL;VALUE=DURATION:PT1H
X-Robots-Tag:noindex
X-PUBLISHED-TTL:PT1H
BEGIN:VTIMEZONE
TZID:Europe/London
BEGIN:DAYLIGHT
TZOFFSETFROM:+0000
TZOFFSETTO:+0100
TZNAME:BST
DTSTART:20240331T010000
END:DAYLIGHT
BEGIN:STANDARD
TZOFFSETFROM:+0100
TZOFFSETTO:+0000
TZNAME:GMT
DTSTART:20241027T010000
END:STANDARD
BEGIN:DAYLIGHT
TZOFFSETFROM:+0000
TZOFFSETTO:+0100
TZNAME:BST
DTSTART:20250330T010000
END:DAYLIGHT
BEGIN:STANDARD
TZOFFSETFROM:+0100
TZOFFSETTO:+0000
TZNAME:GMT
DTSTART:20251026T010000
END:STANDARD
BEGIN:DAYLIGHT
TZOFFSETFROM:+0000
TZOFFSETTO:+0100
TZNAME:BST
DTSTART:20260329T010000
END:DAYLIGHT
BEGIN:STANDARD
TZOFFSETFROM:+0100
TZOFFSETTO:+0000
TZNAME:GMT
DTSTART:20261025T010000
END:STANDARD
END:VTIMEZONE
BEGIN:VEVENT
DTSTART;TZID=Europe/London:20250312T120000
DTEND;TZID=Europe/London:20250312T124500
DTSTAMP:20260421T210405
CREATED:20250301T155555Z
LAST-MODIFIED:20250301T155555Z
UID:5963-1741780800-1741783500@liverycag.org.uk
SUMMARY:How to Manage Greenwashing Risks
DESCRIPTION:Heart of the City: Lunch and Learn Online\nOn 12 March\, join us for an online\, expert-led Lunch and Learn: How to Manage Greenwashing Risks\, where we’ll explore what greenwashing really means\, the risks it poses\, and how to ensure your sustainability claims are credible. \nConfused about greenwashing? Join us as we explore its meaning\, risks and how SMEs can manage its challenges with practical solutions with our guest speakers\, Julia Cripps and Hannah Piper at Hogan Lovells. \nThis session will explore communication strategies\, the value of third-party certifications (such as ISO norm\, B-Corp and Science Based Targets initiative [SBTi])\, and small\, actionable changes that could make a big difference to SMEs. With examples and a practical approach\, we’ll help you strengthen your brand’s integrity and avoid costly mistakes. \nRegister here
URL:https://liverycag.org.uk/event/how-to-manage-greenwashing-risks/
LOCATION:Online event
END:VEVENT
END:VCALENDAR