BEGIN:VCALENDAR
VERSION:2.0
PRODID:-//Livery Climate Action Group - ECPv6.15.20//NONSGML v1.0//EN
CALSCALE:GREGORIAN
METHOD:PUBLISH
X-ORIGINAL-URL:https://liverycag.org.uk
X-WR-CALDESC:Events for Livery Climate Action Group
REFRESH-INTERVAL;VALUE=DURATION:PT1H
X-Robots-Tag:noindex
X-PUBLISHED-TTL:PT1H
BEGIN:VTIMEZONE
TZID:Europe/London
BEGIN:DAYLIGHT
TZOFFSETFROM:+0000
TZOFFSETTO:+0100
TZNAME:BST
DTSTART:20240331T010000
END:DAYLIGHT
BEGIN:STANDARD
TZOFFSETFROM:+0100
TZOFFSETTO:+0000
TZNAME:GMT
DTSTART:20241027T010000
END:STANDARD
BEGIN:DAYLIGHT
TZOFFSETFROM:+0000
TZOFFSETTO:+0100
TZNAME:BST
DTSTART:20250330T010000
END:DAYLIGHT
BEGIN:STANDARD
TZOFFSETFROM:+0100
TZOFFSETTO:+0000
TZNAME:GMT
DTSTART:20251026T010000
END:STANDARD
BEGIN:DAYLIGHT
TZOFFSETFROM:+0000
TZOFFSETTO:+0100
TZNAME:BST
DTSTART:20260329T010000
END:DAYLIGHT
BEGIN:STANDARD
TZOFFSETFROM:+0100
TZOFFSETTO:+0000
TZNAME:GMT
DTSTART:20261025T010000
END:STANDARD
END:VTIMEZONE
BEGIN:VEVENT
DTSTART;TZID=Europe/London:20250304T110000
DTEND;TZID=Europe/London:20250304T153000
DTSTAMP:20260421T210406
CREATED:20250217T093450Z
LAST-MODIFIED:20250217T093450Z
UID:5927-1741086000-1741102200@liverycag.org.uk
SUMMARY:Climate Change: Material Choices for more Sustainable Products
DESCRIPTION:Materials have arguably the greatest impact on a product’s sustainability credentials so what are the latest developments and considerations to support greater environmental and social responsibility? \n\nThis event is focussed on examining some of the established and widely used materials in the furniture and furnishings sector. Experts from the industry will host sessions on foam\, textiles\, wood\, leather and more. \n\nAdmission\nFurniture Makers Company Members: Free (request promo code)\nNon-members: £25\nLunch included. \n  \nRegister here: https://www.eventbrite.co.uk/e/material-choices-for-more-sustainable-products-tickets-1117900974909?aff=oddtdtcreator&mc_cid=7d94417b29&mc_eid=da3dd7bb36
URL:https://liverycag.org.uk/event/climate-change-material-choices-for-more-sustainable-products/
LOCATION:Furniture Makers’ Hall\, 12 Austin Friars\, London\, EC2N 2HE\, United Kingdom
END:VEVENT
END:VCALENDAR