BEGIN:VCALENDAR
VERSION:2.0
PRODID:-//Livery Climate Action Group - ECPv6.15.20//NONSGML v1.0//EN
CALSCALE:GREGORIAN
METHOD:PUBLISH
X-WR-CALNAME:Livery Climate Action Group
X-ORIGINAL-URL:https://liverycag.org.uk
X-WR-CALDESC:Events for Livery Climate Action Group
REFRESH-INTERVAL;VALUE=DURATION:PT1H
X-Robots-Tag:noindex
X-PUBLISHED-TTL:PT1H
BEGIN:VTIMEZONE
TZID:Europe/London
BEGIN:DAYLIGHT
TZOFFSETFROM:+0000
TZOFFSETTO:+0100
TZNAME:BST
DTSTART:20230326T010000
END:DAYLIGHT
BEGIN:STANDARD
TZOFFSETFROM:+0100
TZOFFSETTO:+0000
TZNAME:GMT
DTSTART:20231029T010000
END:STANDARD
BEGIN:DAYLIGHT
TZOFFSETFROM:+0000
TZOFFSETTO:+0100
TZNAME:BST
DTSTART:20240331T010000
END:DAYLIGHT
BEGIN:STANDARD
TZOFFSETFROM:+0100
TZOFFSETTO:+0000
TZNAME:GMT
DTSTART:20241027T010000
END:STANDARD
BEGIN:DAYLIGHT
TZOFFSETFROM:+0000
TZOFFSETTO:+0100
TZNAME:BST
DTSTART:20250330T010000
END:DAYLIGHT
BEGIN:STANDARD
TZOFFSETFROM:+0100
TZOFFSETTO:+0000
TZNAME:GMT
DTSTART:20251026T010000
END:STANDARD
END:VTIMEZONE
BEGIN:VEVENT
DTSTART;TZID=Europe/London:20241105T090000
DTEND;TZID=Europe/London:20241105T183000
DTSTAMP:20260422T030241
CREATED:20241017T214506Z
LAST-MODIFIED:20241017T214506Z
UID:5616-1730797200-1730831400@liverycag.org.uk
SUMMARY:Nature Finance UK Conference 2024
DESCRIPTION:The City of London Corporation has positioned London as a global centre for nature finance\, a topic that underpins action on climate. Members of the Livery Climate Action Group and their colleagues are invited to participate in the Nature Finance UK Conference on 5th November at a special discounted rate. Now in its seventh year\, this is an important forum for professionals involved in financial innovation for the stewardship of land\, water and nature: financial services providers\, asset owners\, investors\, corporates\, land managers and market enablers. \nTo receive a 20% discount on the event\, the coupon code LiveryClimateActionGroup can be used when booking at https://ecosystemsknowledge.net/event/nature-finance-uk-2024/
URL:https://liverycag.org.uk/event/nature-finance-uk-conference-2024/
LOCATION:IET\, Savoy Place\, London
END:VEVENT
BEGIN:VEVENT
DTSTART;TZID=Europe/London:20241105T091500
DTEND;TZID=Europe/London:20241105T111500
DTSTAMP:20260422T030241
CREATED:20241026T212930Z
LAST-MODIFIED:20241026T212930Z
UID:5647-1730798100-1730805300@liverycag.org.uk
SUMMARY:Lord Mayor's Coffee Colloquy: SDG12 Responsible Consumption and Production
DESCRIPTION:The 695th Lord Mayor of the City of London\, Alderman Professor Michael Mainelli 2023-24 Mayoral Theme “Connect to Prosper” celebrates our multiple knowledge miles\, showing that the UK is a place where problems come to be solved. The Coffee Colloquies will demonstrate this\, bringing together varied voices from in and around the city to talk about how their work supports the achievement of one of the UN Sustainable Development Goals. Through fast-paced transfer of knowledge\, and with a focus on connections and networking\, the Coffee Colloquies will invigorate our knowledge miles as the World’s Coffee House. \nUCL (University College London) are delighted to host this panel event on Sustainable Development Goal 12- ‘Responsible Consumption and Production’. The panel will be chaired by Professor Paola Lettieri (Pro-Provost\, UCL East); Paola will be joined by a range of UCL academics as well as colleagues from Newham Council and the Green Alliance who will be showcasing their research and how their work supports the SDG. Do join us for a coffee afterwards for an indepth discussion of the themes raised by the presenters. \nThe panel will be introduced by host Alderman Alison Gowman. \nBook on Eventbrite.
URL:https://liverycag.org.uk/event/lord-mayors-coffee-colloquy-sdg12-responsible-consumption-and-production/
LOCATION:Mansion House\, London\, London\, United Kingdom
END:VEVENT
END:VCALENDAR