BEGIN:VCALENDAR
VERSION:2.0
PRODID:-//Livery Climate Action Group - ECPv6.15.20//NONSGML v1.0//EN
CALSCALE:GREGORIAN
METHOD:PUBLISH
X-WR-CALNAME:Livery Climate Action Group
X-ORIGINAL-URL:https://liverycag.org.uk
X-WR-CALDESC:Events for Livery Climate Action Group
REFRESH-INTERVAL;VALUE=DURATION:PT1H
X-Robots-Tag:noindex
X-PUBLISHED-TTL:PT1H
BEGIN:VTIMEZONE
TZID:Europe/London
BEGIN:DAYLIGHT
TZOFFSETFROM:+0000
TZOFFSETTO:+0100
TZNAME:BST
DTSTART:20230326T010000
END:DAYLIGHT
BEGIN:STANDARD
TZOFFSETFROM:+0100
TZOFFSETTO:+0000
TZNAME:GMT
DTSTART:20231029T010000
END:STANDARD
BEGIN:DAYLIGHT
TZOFFSETFROM:+0000
TZOFFSETTO:+0100
TZNAME:BST
DTSTART:20240331T010000
END:DAYLIGHT
BEGIN:STANDARD
TZOFFSETFROM:+0100
TZOFFSETTO:+0000
TZNAME:GMT
DTSTART:20241027T010000
END:STANDARD
BEGIN:DAYLIGHT
TZOFFSETFROM:+0000
TZOFFSETTO:+0100
TZNAME:BST
DTSTART:20250330T010000
END:DAYLIGHT
BEGIN:STANDARD
TZOFFSETFROM:+0100
TZOFFSETTO:+0000
TZNAME:GMT
DTSTART:20251026T010000
END:STANDARD
END:VTIMEZONE
BEGIN:VEVENT
DTSTART;TZID=Europe/London:20240529T084500
DTEND;TZID=Europe/London:20240529T111500
DTSTAMP:20260422T101134
CREATED:20240421T222515Z
LAST-MODIFIED:20240421T222515Z
UID:5282-1716972300-1716981300@liverycag.org.uk
SUMMARY:Coffee Colloquy SDG 13
DESCRIPTION:https://www.cityoflondon.gov.uk/about-us/about-the-city-of-london-corporation/lord-mayor/lord-mayors-coffee-colloquies \nApply to lmprogoffice@cityoflondon.gov.uk
URL:https://liverycag.org.uk/event/coffee-colloquy-sdg-13/
LOCATION:Mansion House\, London\, London\, United Kingdom
CATEGORIES:Climate Change
END:VEVENT
END:VCALENDAR