BEGIN:VCALENDAR
VERSION:2.0
PRODID:-//Livery Climate Action Group - ECPv6.15.20//NONSGML v1.0//EN
CALSCALE:GREGORIAN
METHOD:PUBLISH
X-ORIGINAL-URL:https://liverycag.org.uk
X-WR-CALDESC:Events for Livery Climate Action Group
REFRESH-INTERVAL;VALUE=DURATION:PT1H
X-Robots-Tag:noindex
X-PUBLISHED-TTL:PT1H
BEGIN:VTIMEZONE
TZID:Europe/London
BEGIN:DAYLIGHT
TZOFFSETFROM:+0000
TZOFFSETTO:+0100
TZNAME:BST
DTSTART:20220327T010000
END:DAYLIGHT
BEGIN:STANDARD
TZOFFSETFROM:+0100
TZOFFSETTO:+0000
TZNAME:GMT
DTSTART:20221030T010000
END:STANDARD
BEGIN:DAYLIGHT
TZOFFSETFROM:+0000
TZOFFSETTO:+0100
TZNAME:BST
DTSTART:20230326T010000
END:DAYLIGHT
BEGIN:STANDARD
TZOFFSETFROM:+0100
TZOFFSETTO:+0000
TZNAME:GMT
DTSTART:20231029T010000
END:STANDARD
BEGIN:DAYLIGHT
TZOFFSETFROM:+0000
TZOFFSETTO:+0100
TZNAME:BST
DTSTART:20240331T010000
END:DAYLIGHT
BEGIN:STANDARD
TZOFFSETFROM:+0100
TZOFFSETTO:+0000
TZNAME:GMT
DTSTART:20241027T010000
END:STANDARD
END:VTIMEZONE
BEGIN:VEVENT
DTSTART;TZID=Europe/London:20230724T173000
DTEND;TZID=Europe/London:20230724T200000
DTSTAMP:20260423T000725
CREATED:20230619T140005Z
LAST-MODIFIED:20230619T140005Z
UID:4666-1690219800-1690228800@liverycag.org.uk
SUMMARY:Nuclear Fusion & Fission: Where we are and the road ahead
DESCRIPTION:Join us to hear from the UK Atomic Energy Authority and the South West Nuclear Hub on the challenges for Nuclear Fusion and advanced Fission energy \, this event will cover : \n\n A brief history of the nuclear industry in the UK and how that has influenced our current landscape. The differences between fission and fusion. The main challenges and opportunities for the sector.\nThe commercial pathway to fusion energy – how fusion energy technology is being developed and the role that it might play in the world’s future clean energy system.\nThe computational challenges associated with the realisation of fusion pilot plants\, and how the power of digital will make it possible.\n\n  \nMonday 24th July 2023 5:30pm – 8pm \nWCIT Hall – Livery Room \nRegister here: Nuclear Fusion Fission Event Tickets
URL:https://liverycag.org.uk/event/nuclear-fusion-fission-where-we-are-and-the-road-ahead/
LOCATION:WCIT Hall\, 39a Bartholomew Close\, London\, EC1A 7JN\, United Kingdom
END:VEVENT
END:VCALENDAR