BEGIN:VCALENDAR
VERSION:2.0
PRODID:-//Livery Climate Action Group - ECPv6.15.20//NONSGML v1.0//EN
CALSCALE:GREGORIAN
METHOD:PUBLISH
X-WR-CALNAME:Livery Climate Action Group
X-ORIGINAL-URL:https://liverycag.org.uk
X-WR-CALDESC:Events for Livery Climate Action Group
REFRESH-INTERVAL;VALUE=DURATION:PT1H
X-Robots-Tag:noindex
X-PUBLISHED-TTL:PT1H
BEGIN:VTIMEZONE
TZID:Europe/London
BEGIN:DAYLIGHT
TZOFFSETFROM:+0000
TZOFFSETTO:+0100
TZNAME:BST
DTSTART:20220327T010000
END:DAYLIGHT
BEGIN:STANDARD
TZOFFSETFROM:+0100
TZOFFSETTO:+0000
TZNAME:GMT
DTSTART:20221030T010000
END:STANDARD
BEGIN:DAYLIGHT
TZOFFSETFROM:+0000
TZOFFSETTO:+0100
TZNAME:BST
DTSTART:20230326T010000
END:DAYLIGHT
BEGIN:STANDARD
TZOFFSETFROM:+0100
TZOFFSETTO:+0000
TZNAME:GMT
DTSTART:20231029T010000
END:STANDARD
BEGIN:DAYLIGHT
TZOFFSETFROM:+0000
TZOFFSETTO:+0100
TZNAME:BST
DTSTART:20240331T010000
END:DAYLIGHT
BEGIN:STANDARD
TZOFFSETFROM:+0100
TZOFFSETTO:+0000
TZNAME:GMT
DTSTART:20241027T010000
END:STANDARD
END:VTIMEZONE
BEGIN:VEVENT
DTSTART;TZID=Europe/London:20230620T120000
DTEND;TZID=Europe/London:20230620T130000
DTSTAMP:20260423T011430
CREATED:20230531T093658Z
LAST-MODIFIED:20230605T123615Z
UID:4622-1687262400-1687266000@liverycag.org.uk
SUMMARY:Collecting and Measuring Carbon Data Webinar hosted by Heart of the City
DESCRIPTION:Heart of the City are hosting a webinar on how to measure carbon footprints for small businesses. They’ll break the process down into simple actionable steps from what data businesses need to collect to choosing a carbon calculator. You’ll also hear tips from an SME that’s already measured their footprint and find out more about the City of London Corporation’s fully funded net zero course for SMEs – it’s not one to miss! \n  \nDate 📅 Tuesday 20 June \nTime 🕙 12 midday \nLocation 📍 Online via Zoom \n  \nFor more information and to book your free place\, please go to: https://www.eventbrite.co.uk/e/lunch-and-learn-collecting-and-measuring-carbon-data-tickets-490619304547?aff=ElMe
URL:https://liverycag.org.uk/event/collecting-and-measuring-carbon-data-webinar/
LOCATION:Online event
END:VEVENT
END:VCALENDAR