BEGIN:VCALENDAR
VERSION:2.0
PRODID:-//Livery Climate Action Group - ECPv6.15.20//NONSGML v1.0//EN
CALSCALE:GREGORIAN
METHOD:PUBLISH
X-WR-CALNAME:Livery Climate Action Group
X-ORIGINAL-URL:https://liverycag.org.uk
X-WR-CALDESC:Events for Livery Climate Action Group
REFRESH-INTERVAL;VALUE=DURATION:PT1H
X-Robots-Tag:noindex
X-PUBLISHED-TTL:PT1H
BEGIN:VTIMEZONE
TZID:Europe/London
BEGIN:DAYLIGHT
TZOFFSETFROM:+0000
TZOFFSETTO:+0100
TZNAME:BST
DTSTART:20220327T010000
END:DAYLIGHT
BEGIN:STANDARD
TZOFFSETFROM:+0100
TZOFFSETTO:+0000
TZNAME:GMT
DTSTART:20221030T010000
END:STANDARD
BEGIN:DAYLIGHT
TZOFFSETFROM:+0000
TZOFFSETTO:+0100
TZNAME:BST
DTSTART:20230326T010000
END:DAYLIGHT
BEGIN:STANDARD
TZOFFSETFROM:+0100
TZOFFSETTO:+0000
TZNAME:GMT
DTSTART:20231029T010000
END:STANDARD
BEGIN:DAYLIGHT
TZOFFSETFROM:+0000
TZOFFSETTO:+0100
TZNAME:BST
DTSTART:20240331T010000
END:DAYLIGHT
BEGIN:STANDARD
TZOFFSETFROM:+0100
TZOFFSETTO:+0000
TZNAME:GMT
DTSTART:20241027T010000
END:STANDARD
END:VTIMEZONE
BEGIN:VEVENT
DTSTART;TZID=Europe/London:20230124T083000
DTEND;TZID=Europe/London:20230124T110000
DTSTAMP:20260423T065502
CREATED:20221221T100928Z
LAST-MODIFIED:20221221T100928Z
UID:4143-1674549000-1674558000@liverycag.org.uk
SUMMARY:Breakfast event - Historic Buildings Carbon Reduction & Resilience Challenge
DESCRIPTION:The City of London Corporation and Purcell Architects are hosting a breakfast briefing on Historic Buildings Carbon Reduction & Climate Resilience Challenge. \nThey want to hear about your experiences and challenges you are facing with your historic listed buildings. They would like your feedback to help identify and share the most time and cost-effective solutions that can best protect\, enhance and sustain the value of your heritage asset. \nOrder of events: \n\n8:30am Welcome breakfast\n9:00am Introduction by historic built environment experts\, Purcell.\n9:20am Guided Q&A to investigate the challenges\, changes and strategies faced by those who own and use historic buildings in the Square Mile.\n\nThe obstacles to adapting listed buildings in the face of a rapidly changing climate can seem daunting\, numerous\, and expensive to overcome. Purcell Architects are a team of experts who have been commissioned by the City Corporation to help you understand and facilitate the adaptations to improve the resilience\, value and efficiency of your historic building. \nThe Historic Buildings Challenge is being delivered as part of the City Corporation’s Climate Action Strategy to support the achievement of net zero in the Square Mile by 2040. \nClick here for more information on the City Corporation’s Climate Action Strategy. \nRegister for the event here
URL:https://liverycag.org.uk/event/breakfast-event-historic-buildings-carbon-reduction-resilience-challenge/
LOCATION:The City Centre\, 80 Basinghall Street\, London\, EC2V 5AR
ATTACH;FMTTYPE=image/png:https://liverycag.org.uk/wp-content/uploads/2022/12/col-heritageblgsevent.png
END:VEVENT
END:VCALENDAR