BEGIN:VCALENDAR
VERSION:2.0
PRODID:-//Livery Climate Action Group - ECPv6.15.20//NONSGML v1.0//EN
CALSCALE:GREGORIAN
METHOD:PUBLISH
X-ORIGINAL-URL:https://liverycag.org.uk
X-WR-CALDESC:Events for Livery Climate Action Group
REFRESH-INTERVAL;VALUE=DURATION:PT1H
X-Robots-Tag:noindex
X-PUBLISHED-TTL:PT1H
BEGIN:VTIMEZONE
TZID:Europe/London
BEGIN:DAYLIGHT
TZOFFSETFROM:+0000
TZOFFSETTO:+0100
TZNAME:BST
DTSTART:20220327T010000
END:DAYLIGHT
BEGIN:STANDARD
TZOFFSETFROM:+0100
TZOFFSETTO:+0000
TZNAME:GMT
DTSTART:20221030T010000
END:STANDARD
BEGIN:DAYLIGHT
TZOFFSETFROM:+0000
TZOFFSETTO:+0100
TZNAME:BST
DTSTART:20230326T010000
END:DAYLIGHT
BEGIN:STANDARD
TZOFFSETFROM:+0100
TZOFFSETTO:+0000
TZNAME:GMT
DTSTART:20231029T010000
END:STANDARD
BEGIN:DAYLIGHT
TZOFFSETFROM:+0000
TZOFFSETTO:+0100
TZNAME:BST
DTSTART:20240331T010000
END:DAYLIGHT
BEGIN:STANDARD
TZOFFSETFROM:+0100
TZOFFSETTO:+0000
TZNAME:GMT
DTSTART:20241027T010000
END:STANDARD
END:VTIMEZONE
BEGIN:VEVENT
DTSTART;TZID=Europe/London:20230112T180000
DTEND;TZID=Europe/London:20230112T200000
DTSTAMP:20260423T065555
CREATED:20221221T093602Z
LAST-MODIFIED:20221221T094306Z
UID:4136-1673546400-1673553600@liverycag.org.uk
SUMMARY:World Trade Conversations #1 - ESG
DESCRIPTION:Is ESG the promised land or a headache for you or your organisation? \nJoin the launch of the World Trade Conversations – a new series of interactive\, deep dives to help you generate fresh thinking and new momentum on all things World Trade. The first will focus on exploring ESG and the good\, bad and ugly or corporate ethics in a changing world. \nExploring modern corporate ethics in a changing world \nWhat participants will get: (less is more\, more with less) \n\nEngage in deep dialogue that generates fresh thinking by reframing assumptions and nurturing sparks of insight\nMake new connections that  add to your intuitive intelligence to find solutions\nParticipate in surfacing and building on the collective wisdom of the World Traders (and contributing to City of London and global trade)\n\nThere is no charge for attending this event. \nRegister here
URL:https://liverycag.org.uk/event/world-trade-conversations-esg/
LOCATION:DLA Piper\, 160 Aldersgate Street\, London\, EC1A 4HT\, 160 Aldersgate Street\, London\, EC1A 4HT\, United Kingdom
ATTACH;FMTTYPE=image/jpeg:https://liverycag.org.uk/wp-content/uploads/2022/12/worldtraders-esg-scaled.jpg
END:VEVENT
END:VCALENDAR