BEGIN:VCALENDAR
VERSION:2.0
PRODID:-//Livery Climate Action Group - ECPv6.15.20//NONSGML v1.0//EN
CALSCALE:GREGORIAN
METHOD:PUBLISH
X-ORIGINAL-URL:https://liverycag.org.uk
X-WR-CALDESC:Events for Livery Climate Action Group
REFRESH-INTERVAL;VALUE=DURATION:PT1H
X-Robots-Tag:noindex
X-PUBLISHED-TTL:PT1H
BEGIN:VTIMEZONE
TZID:Europe/London
BEGIN:DAYLIGHT
TZOFFSETFROM:+0000
TZOFFSETTO:+0100
TZNAME:BST
DTSTART:20210328T010000
END:DAYLIGHT
BEGIN:STANDARD
TZOFFSETFROM:+0100
TZOFFSETTO:+0000
TZNAME:GMT
DTSTART:20211031T010000
END:STANDARD
BEGIN:DAYLIGHT
TZOFFSETFROM:+0000
TZOFFSETTO:+0100
TZNAME:BST
DTSTART:20220327T010000
END:DAYLIGHT
BEGIN:STANDARD
TZOFFSETFROM:+0100
TZOFFSETTO:+0000
TZNAME:GMT
DTSTART:20221030T010000
END:STANDARD
BEGIN:DAYLIGHT
TZOFFSETFROM:+0000
TZOFFSETTO:+0100
TZNAME:BST
DTSTART:20230326T010000
END:DAYLIGHT
BEGIN:STANDARD
TZOFFSETFROM:+0100
TZOFFSETTO:+0000
TZNAME:GMT
DTSTART:20231029T010000
END:STANDARD
END:VTIMEZONE
BEGIN:VEVENT
DTSTART;TZID=Europe/London:20221206T173000
DTEND;TZID=Europe/London:20221206T190000
DTSTAMP:20260423T081353
CREATED:20221125T094227Z
LAST-MODIFIED:20221125T094405Z
UID:4077-1670347800-1670353200@liverycag.org.uk
SUMMARY:Roundtable Invitation -The Unseen Influences on Climate\, Sustainability and Resources
DESCRIPTION:Birkbeck and the FS Club are delighted to announce that we will be hosting a joint event with the City of London to discuss the unseen influences on climate\, sustainability and resources. \nThis is the fourth roundtable discussion in the series and the evening discussion will be taking place in person at Birkbeck\, University of London. \nJoin the Livery Climate Action Group\, Worshipful Company of World Traders\, Z/Yen’s FS Club\, and Birkbeck\, University of London for a discussion on the unseen influences on climate\, sustainability\, and resources. \nDate: Tuesday\, 06 December 2022\, 17:30 – 19:00 GMT\nVenue: CLO B01\, Clore Management Centre\, 27 Torrington Square\, London WC1E 7JL \nProgramme:\n17:30 Welcome and Introduction – Professor David Latchman\, Vice-Chancellor\, Birkbeck\, University of London\n17:35 Key Issues – Alderman Robert Hughes-Penney\n17:45 Environmental Sustainability And Fiscal Sustainability – Professor Ron Smith\, Birkbeck\, University of London\n18:00 Cultural Heritage Is Not Always What You Think – Dr Esther Breithoff\, Birkbeck\, University of London\n18:15 Environmental Science Diplomacy – Science Engagement With North Korea – Professor James Hammond\, Birkbeck\, University of London\n18:30 Energy Transitions: Lessons From The Past For The Future – Professor Frank Trentmann\, Birkbeck\, University of London\n18:45 Alderman Robert Hughes-Penney And Panel Discussion With The Audience\n19:00 Drinks Reception Held In The Clore Suite \nClick here to register for free.
URL:https://liverycag.org.uk/event/roundtable-invitation-the-unseen-influences-on-climate-sustainability-and-resources/
LOCATION:Birkbeck Core Management Centre
ATTACH;FMTTYPE=image/jpeg:https://liverycag.org.uk/wp-content/uploads/2022/11/climate-change-concept-collage-scaled.jpg
END:VEVENT
END:VCALENDAR