BEGIN:VCALENDAR
VERSION:2.0
PRODID:-//Livery Climate Action Group - ECPv6.15.20//NONSGML v1.0//EN
CALSCALE:GREGORIAN
METHOD:PUBLISH
X-ORIGINAL-URL:https://liverycag.org.uk
X-WR-CALDESC:Events for Livery Climate Action Group
REFRESH-INTERVAL;VALUE=DURATION:PT1H
X-Robots-Tag:noindex
X-PUBLISHED-TTL:PT1H
BEGIN:VTIMEZONE
TZID:Europe/London
BEGIN:DAYLIGHT
TZOFFSETFROM:+0000
TZOFFSETTO:+0100
TZNAME:BST
DTSTART:20210328T010000
END:DAYLIGHT
BEGIN:STANDARD
TZOFFSETFROM:+0100
TZOFFSETTO:+0000
TZNAME:GMT
DTSTART:20211031T010000
END:STANDARD
BEGIN:DAYLIGHT
TZOFFSETFROM:+0000
TZOFFSETTO:+0100
TZNAME:BST
DTSTART:20220327T010000
END:DAYLIGHT
BEGIN:STANDARD
TZOFFSETFROM:+0100
TZOFFSETTO:+0000
TZNAME:GMT
DTSTART:20221030T010000
END:STANDARD
BEGIN:DAYLIGHT
TZOFFSETFROM:+0000
TZOFFSETTO:+0100
TZNAME:BST
DTSTART:20230326T010000
END:DAYLIGHT
BEGIN:STANDARD
TZOFFSETFROM:+0100
TZOFFSETTO:+0000
TZNAME:GMT
DTSTART:20231029T010000
END:STANDARD
END:VTIMEZONE
BEGIN:VEVENT
DTSTART;TZID=Europe/London:20220922T173000
DTEND;TZID=Europe/London:20220922T184500
DTSTAMP:20260423T122103
CREATED:20220917T135416Z
LAST-MODIFIED:20220917T135449Z
UID:3909-1663867800-1663872300@liverycag.org.uk
SUMMARY:Ofwat's Approach to Reducing the Harm From Storm Overflows at PR24
DESCRIPTION:You are cordially invited to join the Water Conservators’ September Webinar \nOfwat’s Approach to Reducing the Harm From Storm Overflows at PR24 – Thursday 22nd September 2022 5.30pm to 6.45pm \nClick here to register.\nPresented by Dr Matthew Greetham\, Ofwat \nUnder the Environment Act 2021 the government has a duty to secure a progressive reduction in the adverse impacts of these discharges. Ofwat\, alongside colleagues from DEFRA and the EA\, is currently considering how best to enable and incentivise this reduction in harm. \nAttendance is free and please invite anyone else in your organisation who might be interested. Just register via the Eventbrite link to receive the joining details. If you click add to calendar on the registration form it will add the event to your calendar. \nWCWC Sept 2022 Webinar V3
URL:https://liverycag.org.uk/event/ofwats-approach-to-reducing-the-harm-from-storm-overflows-at-pr24/
END:VEVENT
END:VCALENDAR