BEGIN:VCALENDAR
VERSION:2.0
PRODID:-//Livery Climate Action Group - ECPv6.15.20//NONSGML v1.0//EN
CALSCALE:GREGORIAN
METHOD:PUBLISH
X-WR-CALNAME:Livery Climate Action Group
X-ORIGINAL-URL:https://liverycag.org.uk
X-WR-CALDESC:Events for Livery Climate Action Group
REFRESH-INTERVAL;VALUE=DURATION:PT1H
X-Robots-Tag:noindex
X-PUBLISHED-TTL:PT1H
BEGIN:VTIMEZONE
TZID:Europe/London
BEGIN:DAYLIGHT
TZOFFSETFROM:+0000
TZOFFSETTO:+0100
TZNAME:BST
DTSTART:20210328T010000
END:DAYLIGHT
BEGIN:STANDARD
TZOFFSETFROM:+0100
TZOFFSETTO:+0000
TZNAME:GMT
DTSTART:20211031T010000
END:STANDARD
BEGIN:DAYLIGHT
TZOFFSETFROM:+0000
TZOFFSETTO:+0100
TZNAME:BST
DTSTART:20220327T010000
END:DAYLIGHT
BEGIN:STANDARD
TZOFFSETFROM:+0100
TZOFFSETTO:+0000
TZNAME:GMT
DTSTART:20221030T010000
END:STANDARD
BEGIN:DAYLIGHT
TZOFFSETFROM:+0000
TZOFFSETTO:+0100
TZNAME:BST
DTSTART:20230326T010000
END:DAYLIGHT
BEGIN:STANDARD
TZOFFSETFROM:+0100
TZOFFSETTO:+0000
TZNAME:GMT
DTSTART:20231029T010000
END:STANDARD
END:VTIMEZONE
BEGIN:VEVENT
DTSTART;TZID=Europe/London:20220725T170000
DTEND;TZID=Europe/London:20220725T183000
DTSTAMP:20260423T150246
CREATED:20220703T135658Z
LAST-MODIFIED:20220703T141336Z
UID:3827-1658768400-1658773800@liverycag.org.uk
SUMMARY:A City of London Event on Entrepreneurship and Green Finance
DESCRIPTION:We are delighted to announce that Birkbeck University\, in collaboration with the LCAG\, will be hosting a series of sustainability talks. The second talk will be taking place on Monday 25 July\, 5-6.30pm. The event will take place in-person and will be hosted at Barnard’s Inn Hall\, Gresham College located in Holborn\, London. \nRegister here \nJoin the Livery Climate Action Group\, World Traders and Birkbeck\, University of London for a round table discussion on Entrepreneurship and Green Finance. Further details are available in the attached Flyer. \nPanel:  \n\nAlderman Prem Goyal OBE JP (Chair)\, City of London\nDr Paul Elsner\, Lecturer in Geographic Data Science\, Birkbeck\, University of London\nShalom Lloyd\, Entrepreneur and Founder\, Naturally Tribal Skincare\nDr Ellen Yu\, Senior Lecturer in Finance\, Birkbeck\, University of London\nRichard Jones\, Entrepreneur\, VC and Investor\n\nIf you would like to attend the event\, please register online. \nWe do hope you are able to join us for this discussion. \nCity of London & Birkbeck Roundtable Entrepreneurship and Green Finance
URL:https://liverycag.org.uk/event/a-city-of-london-event-on-entrepreneurship-and-green-finance/
END:VEVENT
END:VCALENDAR