BEGIN:VCALENDAR
VERSION:2.0
PRODID:-//Livery Climate Action Group - ECPv6.15.20//NONSGML v1.0//EN
CALSCALE:GREGORIAN
METHOD:PUBLISH
X-WR-CALNAME:Livery Climate Action Group
X-ORIGINAL-URL:https://liverycag.org.uk
X-WR-CALDESC:Events for Livery Climate Action Group
REFRESH-INTERVAL;VALUE=DURATION:PT1H
X-Robots-Tag:noindex
X-PUBLISHED-TTL:PT1H
BEGIN:VTIMEZONE
TZID:Europe/London
BEGIN:DAYLIGHT
TZOFFSETFROM:+0000
TZOFFSETTO:+0100
TZNAME:BST
DTSTART:20210328T010000
END:DAYLIGHT
BEGIN:STANDARD
TZOFFSETFROM:+0100
TZOFFSETTO:+0000
TZNAME:GMT
DTSTART:20211031T010000
END:STANDARD
BEGIN:DAYLIGHT
TZOFFSETFROM:+0000
TZOFFSETTO:+0100
TZNAME:BST
DTSTART:20220327T010000
END:DAYLIGHT
BEGIN:STANDARD
TZOFFSETFROM:+0100
TZOFFSETTO:+0000
TZNAME:GMT
DTSTART:20221030T010000
END:STANDARD
BEGIN:DAYLIGHT
TZOFFSETFROM:+0000
TZOFFSETTO:+0100
TZNAME:BST
DTSTART:20230326T010000
END:DAYLIGHT
BEGIN:STANDARD
TZOFFSETFROM:+0100
TZOFFSETTO:+0000
TZNAME:GMT
DTSTART:20231029T010000
END:STANDARD
END:VTIMEZONE
BEGIN:VEVENT
DTSTART;TZID=Europe/London:20220614T183000
DTEND;TZID=Europe/London:20220614T200000
DTSTAMP:20260423T161916
CREATED:20220607T061913Z
LAST-MODIFIED:20220607T062349Z
UID:3718-1655231400-1655236800@liverycag.org.uk
SUMMARY:Food for Thought with Food - At the Old Bailey
DESCRIPTION:We’re delighted to announce an exciting collaboration between the City of London Solicitors’ Company and the Worshipful Company of Insurers to provide Food for Thought with Food at the Old Bailey \n\nWhen: Tuesday 14th June 2022\, 6.30pm\nWhere: The Grand Hall of the Old Bailey\nCost: £99\nDress code: Business dress\n\nBOOK YOUR PLACE HERE  \nAs two industries that are pivotal in advising on and managing the risks associated with Climate Change and helping clients on the path to a sustainable\, Net Zero future\, we wanted to bring our communities together\, to learn more about this crucial issue from each other’s perspective and promote collaboration. \nWe’re particularly thrilled that Alderman and Sheriff Alison Gowman has offered to host this dinner in the extraordinary environs of the Grand Hall of the Old Bailey. Sheriff Gowman leads the Livery Climate Action Group and was pleased to directly support our new initiative. This amazing and unusual venue will only add to what will surely be a great evening of debate\, learning and making new friends and connections. We will have two “fire starter” speakers\, Nick Dunlop from the Worshipful Company of Insurers and Jeff Twentyman of Slaughter and May and we’ll have some questions and challenges on the tables\, to guide the debate and to provide a framework for some reporting back to the floor. We will also try to capture the key points and pass learnings back to our respective members after the event itself\, on a Chatham House Rule basis. But reading our report will be no substitute for attending this unique event itself\, of course\, and enjoying first hand “food for thought” with food. \nPlease do come and join us. \nBOOK YOUR PLACE HERE  \nSustainability Dinner - 14 June
URL:https://liverycag.org.uk/event/food-for-thought-with-food-at-the-old-bailey/
END:VEVENT
END:VCALENDAR