BEGIN:VCALENDAR
VERSION:2.0
PRODID:-//Livery Climate Action Group - ECPv6.15.20//NONSGML v1.0//EN
CALSCALE:GREGORIAN
METHOD:PUBLISH
X-ORIGINAL-URL:https://liverycag.org.uk
X-WR-CALDESC:Events for Livery Climate Action Group
REFRESH-INTERVAL;VALUE=DURATION:PT1H
X-Robots-Tag:noindex
X-PUBLISHED-TTL:PT1H
BEGIN:VTIMEZONE
TZID:Europe/London
BEGIN:DAYLIGHT
TZOFFSETFROM:+0000
TZOFFSETTO:+0100
TZNAME:BST
DTSTART:20210328T010000
END:DAYLIGHT
BEGIN:STANDARD
TZOFFSETFROM:+0100
TZOFFSETTO:+0000
TZNAME:GMT
DTSTART:20211031T010000
END:STANDARD
BEGIN:DAYLIGHT
TZOFFSETFROM:+0000
TZOFFSETTO:+0100
TZNAME:BST
DTSTART:20220327T010000
END:DAYLIGHT
BEGIN:STANDARD
TZOFFSETFROM:+0100
TZOFFSETTO:+0000
TZNAME:GMT
DTSTART:20221030T010000
END:STANDARD
BEGIN:DAYLIGHT
TZOFFSETFROM:+0000
TZOFFSETTO:+0100
TZNAME:BST
DTSTART:20230326T010000
END:DAYLIGHT
BEGIN:STANDARD
TZOFFSETFROM:+0100
TZOFFSETTO:+0000
TZNAME:GMT
DTSTART:20231029T010000
END:STANDARD
END:VTIMEZONE
BEGIN:VEVENT
DTSTART;TZID=Europe/London:20220518T164500
DTEND;TZID=Europe/London:20220518T183000
DTSTAMP:20260423T173619
CREATED:20220423T131705Z
LAST-MODIFIED:20220423T131842Z
UID:3525-1652892300-1652898600@liverycag.org.uk
SUMMARY:Do laws and professions impede climate change actions?
DESCRIPTION:Birkbeck University will be hosting a joint event with the City of London to discuss Climate Change and Sustainability. This event will take place in person on Wednesday 18 May 4.45pm-6.30pm. The event will be held on Birkbeck Campus. \nBook your place here. \nDo laws and professions impede climate change actions? \nJoin the City of London Livery Climate Action Group\, Worshipful Company of World Traders and FS Club together with Birkbeck\, University of London for an evening of discussion. \nThis occasion will propose different perspectives on barriers to climate change. The speakers will put forward ideas about the legal\, financial\, human rights and environmental implications\, as a basis for broader discussion with the audience. \nPanel \n\nAlderman Emma Edhem (Chair) – Law\, policy and practices\nProfessor Stewart Motha – Law and Responsibility to Future Generations\nDr Karin Shields – Management Sustainability Reporting\nDr Simon Pooley – Climate Driving Wildfires and Bioinvasions\n\nThe panel will explore barriers imposed by the law and how regulations could be changed to support positive environmental action. \nBIOGRAPHIES  \nProfessor Emma Edhem is Alderman for the Ward of Candlewick and is a Barrister at No5 Chambers.  Emma also sits on the Corporation’s Court of Aldermen\, General Purposes Committee\, Nominations Committee to the Court of Aldermen\, Court of Common Council\, Finance Committee\, Efficiency and Performance sub committee for Finance\, Bridge House Estates\, Community and Children’s Committee\, the City of London Police Authority Board\, Economic and Cyber Crime Board\, Professional Standard and Integrity of the City Police\, and Tackling Racism Task Force. \nDr Karin Shields Lecturer in Accounting and Finance. Karin’s research interests are in the areas of international accounting\, financial reporting quality\, gender in accounting\, sustainability accounting and corporate governance. \nProfessor Stewart Mutha former Dean of Law. He has written extensively on sovereignty\, and postcolonial legal formations. This research informs his teaching in areas including constitutional law\, human rights\, and histories of political violence. \nDr Simon Pooley Lambert Lecturer in Environment. His research interests are interdisciplinary\, ranging across geography\, environmental humanities (history in particular)\, ethnozoology and conservation science. \nEvents Disclaimer  \nThis is subject to any restrictions in place with regard to the Covid pandemic. If it is not possible to hold the event in person\, then it will be moved online. \nDetailed joining instructions and room number will be sent to you by email a week before the event. \nBook your place here. \nCity of London Event Climate & Sustainability 20.04.22
URL:https://liverycag.org.uk/event/do-laws-and-professions-impede-climate-change-actions/
END:VEVENT
END:VCALENDAR